BEGIN:VCALENDAR
VERSION:2.0
PRODID:-//wp-events-plugin.com//7.2.3.1//EN
TZID:America/Detroit
X-WR-TIMEZONE:America/Detroit
BEGIN:VEVENT
UID:77090@annarborwithkids.com
DTSTART;TZID=America/Detroit:20240323T140000
DTEND;TZID=America/Detroit:20240323T150000
DTSTAMP:20240314T020250Z
URL:https://annarborwithkids.com/events/eclipse-stem-stations/
SUMMARY:Eclipse STEM Stations
DESCRIPTION:\nRepresentatives from NASA's eclipse ambassador program will b
 e leading activities to educate youth about the cosmos\, including the upc
 oming solar eclipse on April 8.\n\n\n\nFor kids &amp\; parents.\n\n\n\n[wp
 v-view name="posts-by-id-shortcode" ids="53206"]\n
CATEGORIES:Arbor Annie's Highlights,Elementary,Free,Indoor
 Activities,Middle Schoolers,Parents,Preschoolers,STEM
LOCATION:Ypsilanti District Library - Whittaker Rd\, 5577 Whittaker Rd\, Yp
 silanti\, Michigan\, 48197\, Ypsilanti\, United States
GEO:42.208097;-83.61557
X-APPLE-STRUCTURED-LOCATION;VALUE=URI;X-ADDRESS=5577 Whittaker Rd\, Ypsilan
 ti\, Michigan\, 48197\, Ypsilanti\, United States;X-APPLE-RADIUS=100;X-TIT
 LE=Ypsilanti District Library - Whittaker Rd:geo:42.208097,-83.61557
END:VEVENT
BEGIN:VTIMEZONE
TZID:America/Detroit
X-LIC-LOCATION:America/Detroit
BEGIN:DAYLIGHT
DTSTART:20240310T030000
TZOFFSETFROM:-0500
TZOFFSETTO:-0400
TZNAME:EDT
END:DAYLIGHT
END:VTIMEZONE
END:VCALENDAR