BEGIN:VCALENDAR
VERSION:2.0
PRODID:-//wp-events-plugin.com//7.2.3.1//EN
TZID:America/Detroit
X-WR-TIMEZONE:America/Detroit
BEGIN:VEVENT
UID:76623@annarborwithkids.com
DTSTART;TZID=America/Detroit:20240127T140000
DTEND;TZID=America/Detroit:20240127T160000
DTSTAMP:20240119T035922Z
URL:https://annarborwithkids.com/events/eclipse-science-dome/
SUMMARY:Eclipse Science Dome
DESCRIPTION:\nExplore the phenomena of solar and lunar eclipses. Part of Pr
 oject STEM @ YDL sponsored by Toyota.\n\n\n\nEmbark on a virtual journey t
 hrough the path of totality to explore the phenomena of solar and lunar ec
 lipses. Learn about how light and shadow play a crucial role in creating t
 hese breathtaking events and get a sneak peak of the 2024 North American s
 olar eclipse.\n\n\n\nScience dome presentations are typically 30 minutes l
 ong\, with three sessions available. While you wait for your turn\, feel f
 ree to enjoy various activities in the youth department.\n\n\n\nPresented 
 by the Michigan Science Center. Part of Project STEM @ YDL sponsored by T
 oyota.\n\n\n\n[wpv-view name="posts-by-id-shortcode" ids="53206"]\n
CATEGORIES:Elementary,Free,Indoor Activities,STEM
LOCATION:Ypsilanti District Library - Whittaker Rd\, 5577 Whittaker Rd\, Yp
 silanti\, Michigan\, 48197\, Ypsilanti\, United States
GEO:42.208097;-83.61557
X-APPLE-STRUCTURED-LOCATION;VALUE=URI;X-ADDRESS=5577 Whittaker Rd\, Ypsilan
 ti\, Michigan\, 48197\, Ypsilanti\, United States;X-APPLE-RADIUS=100;X-TIT
 LE=Ypsilanti District Library - Whittaker Rd:geo:42.208097,-83.61557
END:VEVENT
BEGIN:VTIMEZONE
TZID:America/Detroit
X-LIC-LOCATION:America/Detroit
BEGIN:STANDARD
DTSTART:20231105T010000
TZOFFSETFROM:-0400
TZOFFSETTO:-0500
TZNAME:EST
END:STANDARD
END:VTIMEZONE
END:VCALENDAR