BEGIN:VCALENDAR
VERSION:2.0
PRODID:-//wp-events-plugin.com//7.2.3.1//EN
TZID:America/Detroit
X-WR-TIMEZONE:America/Detroit
BEGIN:VEVENT
UID:77078@annarborwithkids.com
DTSTART;TZID=America/Detroit:20240330T150000
DTEND;TZID=America/Detroit:20240330T160000
DTSTAMP:20240313T235301Z
URL:https://annarborwithkids.com/events/eclipse-ambassadors-with-universit
 y-of-michigan/
SUMMARY:Eclipse Ambassadors with University of Michigan
DESCRIPTION:\nUniversity of Michigan undergraduate students\, in partnershi
 p with NASA\, will be providing hands-on activities to educate youth on th
 e upcoming April 8th Eclipse event.\n\n\n\n\n\n\n\n[wpv-view name="posts-b
 y-id-shortcode" ids="53206"]\n
CATEGORIES:Arbor Annie's Highlights,Elementary,Free,High Schoolers,Indoor
 Activities,Middle Schoolers,Parents,STEM
LOCATION:Ypsilanti District Library - Superior\, 1900 Harris Rd\, Ypsilanti
 \, Michigan\, 48198\, Ypsilanti\, United States
GEO:42.270591;-83.584503
X-APPLE-STRUCTURED-LOCATION;VALUE=URI;X-ADDRESS=1900 Harris Rd\, Ypsilanti\
 , Michigan\, 48198\, Ypsilanti\, United States;X-APPLE-RADIUS=100;X-TITLE=
 Ypsilanti District Library - Superior:geo:42.270591,-83.584503
END:VEVENT
BEGIN:VTIMEZONE
TZID:America/Detroit
X-LIC-LOCATION:America/Detroit
BEGIN:DAYLIGHT
DTSTART:20240310T030000
TZOFFSETFROM:-0500
TZOFFSETTO:-0400
TZNAME:EDT
END:DAYLIGHT
END:VTIMEZONE
END:VCALENDAR