BEGIN:VCALENDAR
VERSION:2.0
PRODID:-//wp-events-plugin.com//7.2.3.1//EN
TZID:America/Detroit
X-WR-TIMEZONE:America/Detroit
BEGIN:VEVENT
UID:93271@annarborwithkids.com
DTSTART;TZID=America/Detroit:20260425T153000
DTEND;TZID=America/Detroit:20260425T173000
DTSTAMP:20260323T210012Z
URL:https://annarborwithkids.com/events/ebru-marbling-the-art-of-floating-
 paint-on-water-2/
SUMMARY:Ebru Marbling: The Art of Floating Paint on Water
DESCRIPTION:\nIn this class\, YDL will explore the history and science of E
 bru\, dating back to 1447\, while mastering at least eight traditional mar
 bling techniques and designs. Participants will create their own unique pi
 eces of art and go home with a set of marbled greeting cards with envelope
 s\, as well as a special "secret" project.\n\n\n\nWhat to Bring:1.  Cloth
 ing you don't mind getting paint on\, or an apron.2.  A small towel you d
 on't mind getting paint on.3.  Hydration\, as the class is two hours long
 .\n\n\n\nThere will be two sessions for 12 people at a time. Please pick a
  time slot when you register. One adult can sign up multiple family member
 s. Sessions are offered at 1p and 3:30p.\n\n\n\nRegistration will open Apr
 il 1.&nbsp\;Call 734-482-4110 (extension 2422)\, or email&nbsp\;asmith@yps
 ilibrary.org&nbsp\;with any questions. This class is for ages 12 and up.&n
 bsp\;\n
CATEGORIES:Advance Registration,Arbor Annie's Highlights,Crafts,Free,High
 Schoolers,Indoor Activities,Middle Schoolers,Registration Required
LOCATION:Ypsilanti District Library - Michigan Ave Branch\, 229 West Michig
 an Avenue\, Ypsilanti\, Michigan\, 48197\, Ypsilanti\, United States
GEO:42.240746;-83.61565
X-APPLE-STRUCTURED-LOCATION;VALUE=URI;X-ADDRESS=229 West Michigan Avenue\, 
 Ypsilanti\, Michigan\, 48197\, Ypsilanti\, United States;X-APPLE-RADIUS=10
 0;X-TITLE=Ypsilanti District Library - Michigan Ave Branch:geo:42.240746,-
 83.61565
END:VEVENT
BEGIN:VTIMEZONE
TZID:America/Detroit
X-LIC-LOCATION:America/Detroit
BEGIN:DAYLIGHT
DTSTART:20260308T030000
TZOFFSETFROM:-0500
TZOFFSETTO:-0400
TZNAME:EDT
END:DAYLIGHT
END:VTIMEZONE
END:VCALENDAR