BEGIN:VCALENDAR
VERSION:2.0
PRODID:-//wp-events-plugin.com//7.2.3.1//EN
TZID:America/Detroit
X-WR-TIMEZONE:America/Detroit
BEGIN:VEVENT
UID:93096@annarborwithkids.com
DTSTART;TZID=America/Detroit:20260321T110000
DTEND;TZID=America/Detroit:20260321T133000
DTSTAMP:20260319T203116Z
URL:https://annarborwithkids.com/events/easter-egg-hunt-schell/
SUMMARY:2026 Easter Egg Hunt
DESCRIPTION:\nSchell Family Farm is holding an Easter Event. The gates will
  open at 11a with the Easter Bunny available 11a-12:30p. \n\n\n\nThe egg h
 unt will start promptly at 1p. Bring a basket to collect your eggs. If you
 r egg has a coin\, you have won a prize! Visit the table inside to claim y
 our prize. Please empty and return eggs so they can reuse them next year.\
 n\n\n\nPlease consider paying it forward by bringing donations for the Far
 ley Hill Food Pantry. There is a lot that goes into this event\, including
  the donations from many local businesses. Let's continue to do our part b
 y supporting our friends that may need a little extra help!\n\n\n\nThere w
 ill be lots of extra activities going on starting at 11am. We recommend co
 ming early to participate in all the fun\n\n\n\n\n
CATEGORIES:Arbor Annie's Highlights,Easter,Easter Bunny,Egg
 Hunt,Elementary,Free,Outdoor,Preschoolers,Toddler
LOCATION:Schell Family Farm\, 10055 Dexter-Pinckney Rd\,  Pinckney\, Michig
 an\, 48169\, United States
GEO:42.45256;-83.93628
X-APPLE-STRUCTURED-LOCATION;VALUE=URI;X-ADDRESS=10055 Dexter-Pinckney Rd\, 
  Pinckney\, Michigan\, 48169\, United States;X-APPLE-RADIUS=100;X-TITLE=Sc
 hell Family Farm:geo:42.45256,-83.93628
END:VEVENT
BEGIN:VTIMEZONE
TZID:America/Detroit
X-LIC-LOCATION:America/Detroit
BEGIN:DAYLIGHT
DTSTART:20260308T030000
TZOFFSETFROM:-0500
TZOFFSETTO:-0400
TZNAME:EDT
END:DAYLIGHT
END:VTIMEZONE
END:VCALENDAR