BEGIN:VCALENDAR
VERSION:2.0
PRODID:-//wp-events-plugin.com//7.2.3.1//EN
TZID:America/Detroit
X-WR-TIMEZONE:America/Detroit
BEGIN:VEVENT
UID:92871@annarborwithkids.com
DTSTART;TZID=America/Detroit:20260321T163000
DTEND;TZID=America/Detroit:20260321T183000
DTSTAMP:20260309T202631Z
URL:https://annarborwithkids.com/events/easter-bunny-visit-2/
SUMMARY:Easter Bunny Visit
DESCRIPTION:\nHop on over and celebrate with Christina's Sweet Treats for a
  sweet Easter event the whole family will love! \n\n\n\nStop by to enjoy d
 elicious ice cream\, fun spring vibes\, and a special visit from the Easte
 r Bunny \n\n\n\n First 25 kids win a door prize!\n\n\n\nPlus they’ll be 
 serving some fun limited-time treats: Peeps Milkshakes Sky-High Sundaes\n\
 n\n\nBring the kids\, grab a treat\, and make some sweet Easter memories! 
 \n\n\n\n\n
CATEGORIES:Arbor Annie's Highlights,Easter,Easter
 Bunny,Elementary,Food,Free,Middle Schoolers,Parents,Preschoolers,Toddler
LOCATION:Christina's Sweet Treats\, 901 W Michigan Avenue Suite B\, Saline\
 , Michigan\, 48176\, United States
GEO:42.160536;-83.795375
X-APPLE-STRUCTURED-LOCATION;VALUE=URI;X-ADDRESS=901 W Michigan Avenue Suite
  B\, Saline\, Michigan\, 48176\, United States;X-APPLE-RADIUS=100;X-TITLE=
 Christina's Sweet Treats:geo:42.160536,-83.795375
END:VEVENT
BEGIN:VTIMEZONE
TZID:America/Detroit
X-LIC-LOCATION:America/Detroit
BEGIN:DAYLIGHT
DTSTART:20260308T030000
TZOFFSETFROM:-0500
TZOFFSETTO:-0400
TZNAME:EDT
END:DAYLIGHT
END:VTIMEZONE
END:VCALENDAR