BEGIN:VCALENDAR
VERSION:2.0
PRODID:-//wp-events-plugin.com//7.2.3.1//EN
TZID:America/Detroit
X-WR-TIMEZONE:America/Detroit
BEGIN:VEVENT
UID:92727@annarborwithkids.com
DTSTART;TZID=America/Detroit:20260404T100000
DTEND;TZID=America/Detroit:20260404T120000
DTSTAMP:20260225T204934Z
URL:https://annarborwithkids.com/events/easter-bunny-breakfast-egg-hunt/
SUMMARY:Easter Bunny Breakfast &amp\; Egg Hunt
DESCRIPTION:\nPolo Fields Golf &amp\; CC is holding an Easter Bunny Breakfa
 st and Egg Hunt.\n\n\n\nMeet the Easter Bunny\, enjoy breakfast\, than go 
 on an egg hunt. If the weather cooperates\, the egg hunt will be outside.\
 n\n\n\nThe buffet breakfast includes:\n\n\n\n\nBiscuits &amp\; Gravy\n\n\n
 \nWaffles\n\n\n\nCheesy Eggs\n\n\n\nBacon\n\n\n\nMac N Cheese\n\n\n\nChick
 en Tenders\n\n\n\nFruit Salad\n\n\n\nHashbrowns\n\n\n\n\nReservations are 
 required by April 2\,\n\n\n\n\n
CATEGORIES:Advance Registration,Arbor Annie's Highlights,Easter,Easter
 Bunny,Egg Hunt,Food,Indoor Activities,Meal,Outdoor,Registration Required
LOCATION:Polo Fields Country Club\, : 5200 Polo Fields Drive\, Ann Arbor\, 
 Michigan\, 48103\, Scio Township\, United States
GEO:42.2764708;-83.83151029999999
X-APPLE-STRUCTURED-LOCATION;VALUE=URI;X-ADDRESS=: 5200 Polo Fields Drive\, 
 Ann Arbor\, Michigan\, 48103\, Scio Township\, United States;X-APPLE-RADIU
 S=100;X-TITLE=Polo Fields Country Club:geo:42.2764708,-83.83151029999999
END:VEVENT
BEGIN:VTIMEZONE
TZID:America/Detroit
X-LIC-LOCATION:America/Detroit
BEGIN:DAYLIGHT
DTSTART:20260308T030000
TZOFFSETFROM:-0500
TZOFFSETTO:-0400
TZNAME:EDT
END:DAYLIGHT
END:VTIMEZONE
END:VCALENDAR