BEGIN:VCALENDAR
VERSION:2.0
PRODID:-//wp-events-plugin.com//7.2.3.1//EN
TZID:America/Detroit
X-WR-TIMEZONE:America/Detroit
BEGIN:VEVENT
UID:93473@annarborwithkids.com
DTSTART;TZID=America/Detroit:20260403T170000
DTEND;TZID=America/Detroit:20260403T200000
DTSTAMP:20260402T200324Z
URL:https://annarborwithkids.com/events/easter-basket-giveaway-youth-sneak
 er-ball/
SUMMARY:Easter Basket Giveaway &amp\; Youth Sneaker Ball
DESCRIPTION:\nJoin Elevation Youth Corp for their Annual EYC Easter Basket 
 🐣 🍬Giveaway &amp\; Youth Sneakerball. 👟👟👟\n\n\n\nActivities
  include:\n\n\n\n\nEaster Basket Giveaway (while supplies last)\n\n\n\nPic
 tures with the Easter Bunny (5-7p)\n\n\n\nFace Painting (5:30-7:30p)\n\n\n
 \nEgg Decorating\n\n\n\nMeet &amp\; Greet with Miss Motwon &amp\; Miss Was
 htenaw County\n\n\n\nMusic from DJ Helluva &amp\; a Dance Floor\n\n\n\nHot
  Dogs &amp\; Chips (While Supplies Last)\n\n\n\n\n$10 entry donation/child
 . Proceeds fund their Summer Program\n\n\n\n\n
CATEGORIES:Arbor Annie's Highlights,Charitable
 Event,Crafts,Dance,Easter,Easter Bunny,Food,Indoor
 Activities,Music/Concerts
LOCATION:UAW Local 898\, 8975 Textile Rd\, Ypsilanti\, MI\, 48197\, United 
 States
GEO:42.203249;-83.582231
X-APPLE-STRUCTURED-LOCATION;VALUE=URI;X-ADDRESS=8975 Textile Rd\, Ypsilanti
 \, MI\, 48197\, United States;X-APPLE-RADIUS=100;X-TITLE=UAW Local 898:geo
 :42.203249,-83.582231
END:VEVENT
BEGIN:VTIMEZONE
TZID:America/Detroit
X-LIC-LOCATION:America/Detroit
BEGIN:DAYLIGHT
DTSTART:20260308T030000
TZOFFSETFROM:-0500
TZOFFSETTO:-0400
TZNAME:EDT
END:DAYLIGHT
END:VTIMEZONE
END:VCALENDAR