BEGIN:VCALENDAR
VERSION:2.0
PRODID:-//wp-events-plugin.com//7.2.3.1//EN
TZID:America/Detroit
X-WR-TIMEZONE:America/Detroit
BEGIN:VEVENT
UID:92573@annarborwithkids.com
DTSTART;TZID=America/Detroit:20260314T140000
DTEND;TZID=America/Detroit:20260314T153000
DTSTAMP:20260219T162037Z
URL:https://annarborwithkids.com/events/east-meets-west-a-celebration-thro
 ugh-the-chinese-erhu/
SUMMARY:East Meets West: A Celebration Through the Chinese Erhu
DESCRIPTION:\nJoin us for an exciting performance that bridges cultures thr
 ough the sounds of the Chinese erhu\, accompanied by a vibrant ensemble of
  traditional Chinese instruments.&nbsp\;\n\n\n\nThe Ann Arbor Erhu Club is
  a diverse\, community-based group of erhu enthusiasts\, ranging from teen
 s to seniors\, including professional musicians\, seasoned players\, and p
 assionate beginners. United by their love for erhu music\, they are thrill
 ed to share this unique art form with the public. This performance blends 
 Chinese and American songs\, featuring folk\, pop\, and contemporary piece
 s\, with erhu players and ensemble creating a dynamic\, memorable experien
 ce.\n\n\n\nFor teens &amp\; adults. Held in first floor lobby.\n
CATEGORIES:Arbor Annie's Highlights,BIPOC,Concert,Cultural
 Celebration,Free,High Schoolers,Indoor Activities,Music/Concerts,Parents
LOCATION:Downtown Branch of AADL\, 343 South Fifth Avenue\, Ann Arbor\, Mic
 higan\, 48104\, Downtown\, United States
GEO:42.278198;-83.745971
X-APPLE-STRUCTURED-LOCATION;VALUE=URI;X-ADDRESS=343 South Fifth Avenue\, An
 n Arbor\, Michigan\, 48104\, Downtown\, United States;X-APPLE-RADIUS=100;X
 -TITLE=Downtown Branch of AADL:geo:42.278198,-83.745971
END:VEVENT
BEGIN:VTIMEZONE
TZID:America/Detroit
X-LIC-LOCATION:America/Detroit
BEGIN:DAYLIGHT
DTSTART:20260308T030000
TZOFFSETFROM:-0500
TZOFFSETTO:-0400
TZNAME:EDT
END:DAYLIGHT
END:VTIMEZONE
END:VCALENDAR