BEGIN:VCALENDAR
VERSION:2.0
PRODID:-//wp-events-plugin.com//7.2.3.1//EN
TZID:America/Detroit
X-WR-TIMEZONE:America/Detroit
BEGIN:VEVENT
UID:93068@annarborwithkids.com
DTSTART;TZID=America/Detroit:20260418T100000
DTEND;TZID=America/Detroit:20260418T120000
DTSTAMP:20260312T193242Z
URL:https://annarborwithkids.com/events/earth-day-shoreline-cleanup/
SUMMARY:Earth Day Shoreline Cleanup
DESCRIPTION:\nEarth Day is a time to reflect on your impact on the planet a
 nd work towards more sustainable practices and efforts that support a heal
 thy environment for all of us. \n\n\n\nIn celebration of Earth Day\, help 
 keep Lake Erie Metropark clean by joining them to clean along the picnic a
 reas and shoreline of the park. You or your group will be assigned an area
  to help clean. Around noon\, join back up at the Food Bar for a lunch of 
 hot dogs\, chips\, and a drink. Individuals\, families\, and groups welcom
 e. You will receive free daily park entry as a volunteer.\n\n\n\nAges: Fun
  for all ages! Children must be accompanied by a registered adult.\n\n\n\n
 Meet at the food bar. Register by 4p the day before the program.\n\n\n\n\n
CATEGORIES:Advance Registration,Arbor Annie's Highlights,Earth
 Day,Elementary,Food,Free,High Schoolers,Middle
 Schoolers,Outdoor,Parents,Registration Required
LOCATION:Lake Erie Metropark\, 32481 West Jefferson Avenue\, Brownstown\, M
 ichigan\, 48173\, United States
GEO:42.070504;-83.210829
X-APPLE-STRUCTURED-LOCATION;VALUE=URI;X-ADDRESS=32481 West Jefferson Avenue
 \, Brownstown\, Michigan\, 48173\, United States;X-APPLE-RADIUS=100;X-TITL
 E=Lake Erie Metropark:geo:42.070504,-83.210829
END:VEVENT
BEGIN:VTIMEZONE
TZID:America/Detroit
X-LIC-LOCATION:America/Detroit
BEGIN:DAYLIGHT
DTSTART:20260308T030000
TZOFFSETFROM:-0500
TZOFFSETTO:-0400
TZNAME:EDT
END:DAYLIGHT
END:VTIMEZONE
END:VCALENDAR