BEGIN:VCALENDAR
VERSION:2.0
PRODID:-//wp-events-plugin.com//7.2.3.1//EN
TZID:America/Detroit
X-WR-TIMEZONE:America/Detroit
BEGIN:VEVENT
UID:93073@annarborwithkids.com
DTSTART;TZID=America/Detroit:20260425T140000
DTEND;TZID=America/Detroit:20260425T160000
DTSTAMP:20260312T200359Z
URL:https://annarborwithkids.com/events/earth-day-heroes-of-conservation/
SUMMARY:Earth Day: Heroes of Conservation
DESCRIPTION:\nThe Marvel Cinematic Universe keeps moving forward\, but we c
 an’t forget our Conservation Superheroes from the past. Avengers like Ir
 on Man and Captain America changed the world. Roger Tory Peterson\, George
  Washington Carver\, and Rachel Carson changed it\, too. \n\n\n\nKeeping E
 arth Day in mind\, join Lake Erie Metropark for a fun look at history’s 
 real-life conservation heroes and their fictional counterpart from the Mar
 vel Universe. You’ll never see a superhero movie the same way again!\n\n
 \n\nWhat to Expect:This program is entirely indoors. You will be seated fo
 r most of the 90-minute duration.Ages: 8 and up.Time: 2 p.m. – 4 p.m.Cos
 t: $3 per child\, $5 per adultLocation: Lake Erie Metropark\, Marshlands M
 useum\n\n\n\nPre-registration is required by 4p the day before the program
 .\n\n\n\n\n
CATEGORIES:Advance Registration,Arbor Annie's Highlights,Earth
 Day,Elementary,Environmental,High Schoolers,History,Indoor
 Activities,Middle Schoolers,Parents,Pop Culture,Registration Required
LOCATION:Lake Erie Metropark\, 32481 West Jefferson Avenue\, Brownstown\, M
 ichigan\, 48173\, United States
GEO:42.070504;-83.210829
X-APPLE-STRUCTURED-LOCATION;VALUE=URI;X-ADDRESS=32481 West Jefferson Avenue
 \, Brownstown\, Michigan\, 48173\, United States;X-APPLE-RADIUS=100;X-TITL
 E=Lake Erie Metropark:geo:42.070504,-83.210829
END:VEVENT
BEGIN:VTIMEZONE
TZID:America/Detroit
X-LIC-LOCATION:America/Detroit
BEGIN:DAYLIGHT
DTSTART:20260308T030000
TZOFFSETFROM:-0500
TZOFFSETTO:-0400
TZNAME:EDT
END:DAYLIGHT
END:VTIMEZONE
END:VCALENDAR