BEGIN:VCALENDAR
VERSION:2.0
PRODID:-//wp-events-plugin.com//7.2.3.1//EN
TZID:America/Detroit
X-WR-TIMEZONE:America/Detroit
BEGIN:VEVENT
UID:93094@annarborwithkids.com
DTSTART;TZID=America/Detroit:20260426T110000
DTEND;TZID=America/Detroit:20260426T150000
DTSTAMP:20260319T200900Z
URL:https://annarborwithkids.com/events/earth-day-fair/
SUMMARY:Earth Day Fair
DESCRIPTION:\nMilan is holding their 2nd Annual Earth Day Fair.\n\n\n\nThe 
 Earth Day Fair is a family-friendly community event focused on environment
 al awareness\, education\, and local engagement.\n\n\n\nAttendees can look
  forward to: \n\n\n\n\nDouble JJ Farms returning with live animals \n\n\n\
 nGuest speakers and presentations\n\n\n\nGames and interactive activities 
 for all ages\n\n\n\n\nThis event is working towards becoming a Zero Waste 
 Event! They will have compost and recycle stations for attendees and are w
 orking with vendors to use only recyclable and compostable materials. You 
 can help by sorting your materials into the correct bins and bringing your
  own water bottle. Learn more at ZeroWasteWashtenaw.com\n\n\n\n\n\n\n\n[w
 pv-view name="linked-playground"]\n
CATEGORIES:Animals,Arbor Annie's Highlights,Earth
 Day,Elementary,Environmental,Free,High Schoolers,Middle
 Schoolers,Outdoor,Parents,Preschoolers,Toddler
LOCATION:Wilson Park\, 147 Wabash St\, Milan\, Michigan\, 48160\, Milan\, U
 nited States
GEO:42.0818762;-83.68500169999999
X-APPLE-STRUCTURED-LOCATION;VALUE=URI;X-ADDRESS=147 Wabash St\, Milan\, Mic
 higan\, 48160\, Milan\, United States;X-APPLE-RADIUS=100;X-TITLE=Wilson Pa
 rk:geo:42.0818762,-83.68500169999999
END:VEVENT
BEGIN:VTIMEZONE
TZID:America/Detroit
X-LIC-LOCATION:America/Detroit
BEGIN:DAYLIGHT
DTSTART:20260308T030000
TZOFFSETFROM:-0500
TZOFFSETTO:-0400
TZNAME:EDT
END:DAYLIGHT
END:VTIMEZONE
END:VCALENDAR