BEGIN:VCALENDAR
VERSION:2.0
PRODID:-//wp-events-plugin.com//7.2.3.1//EN
TZID:America/Detroit
X-WR-TIMEZONE:America/Detroit
BEGIN:VEVENT
UID:92944@annarborwithkids.com
DTSTART;TZID=America/Detroit:20260422T090000
DTEND;TZID=America/Detroit:20260422T160000
DTSTAMP:20260310T203434Z
URL:https://annarborwithkids.com/events/earth-day-at-the-arb/
SUMMARY:Earth Day at the Arb
DESCRIPTION:\nTake a mindful break this Earth Day at Nichols Arboretum. Ste
 p away from your screen\, your to-do list\, and the rush of the day\, and 
 spend a little time outside. Drop in for casual\, low-commitment activitie
 s designed to help you slow down and reconnec with nature\, with creativit
 y\, and with each other. Whether you stay for ten minutes or an hour\, thi
 s is an easy way to mark the day in a way that feels restorative\, not rus
 hed.&nbsp\;\n\n\n\nOpen and free to all.\n\n\n\n\n
CATEGORIES:Arbor Annie's Highlights,Earth Day,Elementary,Free,High
 Schoolers,Middle Schoolers,Nature,Outdoor,Parents,Preschoolers,Toddler,UM
 Students
LOCATION:Nichols Arboretum\, 1016 Washington Heights\, Ann Arbor\, Michigan
 \, 48104\, Michigan\, United States
GEO:42.28036050000001;-83.73716840000003
X-APPLE-STRUCTURED-LOCATION;VALUE=URI;X-ADDRESS=1016 Washington Heights\, A
 nn Arbor\, Michigan\, 48104\, Michigan\, United States;X-APPLE-RADIUS=100;
 X-TITLE=Nichols Arboretum:geo:42.28036050000001,-83.73716840000003
END:VEVENT
BEGIN:VTIMEZONE
TZID:America/Detroit
X-LIC-LOCATION:America/Detroit
BEGIN:DAYLIGHT
DTSTART:20260308T030000
TZOFFSETFROM:-0500
TZOFFSETTO:-0400
TZNAME:EDT
END:DAYLIGHT
END:VTIMEZONE
END:VCALENDAR