BEGIN:VCALENDAR
VERSION:2.0
PRODID:-//wp-events-plugin.com//7.2.3.1//EN
TZID:America/Detroit
X-WR-TIMEZONE:America/Detroit
BEGIN:VEVENT
UID:93528@annarborwithkids.com
DTSTART;TZID=America/Detroit:20260422T100000
DTEND;TZID=America/Detroit:20260422T200000
DTSTAMP:20260416T231023Z
URL:https://annarborwithkids.com/events/earth-day-at-robin-hills-farm/
SUMMARY:Earth Day at Robin Hills Farm
DESCRIPTION:\nJoin Robin Hills Farm for a full day of fresh air\, scenic vi
 ews\, and outdoor adventure! Nestled right next to the DTE Trail\, Robin H
 ills Farm is the perfect place to reconnect with nature.\n\n\n\nPlenty of 
 convenient parking availableGates open 10a-8pExplore 3 miles of trails win
 ding through 129 acres of rolling hills and peaceful ponds.\n\n\n\nSome of
  their staff will be volunteering to clean up property alongside M-52 from
  2-5p. If you’re interested in volunteering\, sign up here: https://www.
 robinhillsfarm.com/tickets/p/earthday2026\n\n\n\nAfter your hike\, unwind 
 at the Nest BarOpen 3-8pSmokey Michigan 3-8pSip craft cocktails while taki
 ng in the stunning patio views\n\n\n\nBring your friends\, your family\, a
 nd your love for the outdoors—to celebrate Earth Day!\n\n\n\n\n
CATEGORIES:Arbor Annie's Highlights,Earth Day,Elementary,High
 Schoolers,Middle Schoolers,Nature,Outdoor,Parents
LOCATION:Robin Hills Farm\, 20390 Michigan 52\, Chelsea\, Michigan\, 48118\
 , Chelsea\, United States
GEO:42.3354711;-84.02710830000001
X-APPLE-STRUCTURED-LOCATION;VALUE=URI;X-ADDRESS=20390 Michigan 52\, Chelsea
 \, Michigan\, 48118\, Chelsea\, United States;X-APPLE-RADIUS=100;X-TITLE=R
 obin Hills Farm:geo:42.3354711,-84.02710830000001
END:VEVENT
BEGIN:VTIMEZONE
TZID:America/Detroit
X-LIC-LOCATION:America/Detroit
BEGIN:DAYLIGHT
DTSTART:20260308T030000
TZOFFSETFROM:-0500
TZOFFSETTO:-0400
TZNAME:EDT
END:DAYLIGHT
END:VTIMEZONE
END:VCALENDAR