BEGIN:VCALENDAR
VERSION:2.0
PRODID:-//wp-events-plugin.com//7.2.3.1//EN
TZID:America/Detroit
X-WR-TIMEZONE:America/Detroit
BEGIN:VEVENT
UID:92486@annarborwithkids.com
DTSTART;TZID=America/Detroit:20260207T130000
DTEND;TZID=America/Detroit:20260207T170000
DTSTAMP:20260204T183800Z
URL:https://annarborwithkids.com/events/early-valentines-celebration/
SUMMARY:Early Valentine's Celebration
DESCRIPTION:\nJoin Milkshake Factory for an Early Valentine's Celebration.\
 n\n\n\n\nMake Valentine's\n\n\n\nSpin the Prize Wheel\n\n\n\nAnd more swee
 t surprises\n\n\n\n\n\n
CATEGORIES:Arbor Annie's Highlights,Crafts,Elementary,Food,High
 Schoolers,Indoor Activities,Middle
 Schoolers,Parents,Preschoolers,Toddler,Valentine's Day
LOCATION:MilkShake Factory\, 326 S Maple Rd\, Ann Arbor\, Michigan\, 48103\
 , United States
GEO:42.278546;-83.781061
X-APPLE-STRUCTURED-LOCATION;VALUE=URI;X-ADDRESS=326 S Maple Rd\, Ann Arbor\
 , Michigan\, 48103\, United States;X-APPLE-RADIUS=100;X-TITLE=MilkShake Fa
 ctory:geo:42.278546,-83.781061
END:VEVENT
BEGIN:VTIMEZONE
TZID:America/Detroit
X-LIC-LOCATION:America/Detroit
BEGIN:STANDARD
DTSTART:20251102T010000
TZOFFSETFROM:-0400
TZOFFSETTO:-0500
TZNAME:EST
END:STANDARD
END:VTIMEZONE
END:VCALENDAR