BEGIN:VCALENDAR
VERSION:2.0
PRODID:-//wp-events-plugin.com//7.2.3.1//EN
TZID:America/Detroit
X-WR-TIMEZONE:America/Detroit
BEGIN:VEVENT
UID:83183@annarborwithkids.com
DTSTART;TZID=America/Detroit:20260425T103000
DTEND;TZID=America/Detroit:20260425T123000
DTSTAMP:20260323T205516Z
URL:https://annarborwithkids.com/events/dungeons-dragons-drop-in-for-teens
 -5/
SUMMARY:Dungeons &amp\; Dragons Drop in for Teens
DESCRIPTION:\nYpsilanti District Library is holding a Dungeons &amp\; Drago
 ns for teens events.\n\n\n\nCome play with an experienced DM\, an adventur
 ous storyline\, and pre-generated characters.\n\n\n\nEach Saturday is a on
 e-shot game (done in one sitting) with an overarching campaign\n\n\n\nRegi
 stration is preferred\, but drop-in is available.\n
CATEGORIES:Advance Registration,Arbor Annie's Highlights,Free,Games,High
 Schoolers,Indoor Activities,Middle Schoolers
LOCATION:Ypsilanti District Library - Michigan Ave Branch\, 229 West Michig
 an Avenue\, Ypsilanti\, Michigan\, 48197\, Ypsilanti\, United States
GEO:42.240746;-83.61565
X-APPLE-STRUCTURED-LOCATION;VALUE=URI;X-ADDRESS=229 West Michigan Avenue\, 
 Ypsilanti\, Michigan\, 48197\, Ypsilanti\, United States;X-APPLE-RADIUS=10
 0;X-TITLE=Ypsilanti District Library - Michigan Ave Branch:geo:42.240746,-
 83.61565
END:VEVENT
BEGIN:VTIMEZONE
TZID:America/Detroit
X-LIC-LOCATION:America/Detroit
BEGIN:DAYLIGHT
DTSTART:20260308T030000
TZOFFSETFROM:-0500
TZOFFSETTO:-0400
TZNAME:EDT
END:DAYLIGHT
END:VTIMEZONE
END:VCALENDAR