BEGIN:VCALENDAR
VERSION:2.0
PRODID:-//wp-events-plugin.com//7.2.3.1//EN
TZID:America/Detroit
X-WR-TIMEZONE:America/Detroit
BEGIN:VEVENT
UID:82573@annarborwithkids.com
DTSTART;TZID=America/Detroit:20251122T110000
DTEND;TZID=America/Detroit:20251122T113000
DTSTAMP:20251014T154627Z
URL:https://annarborwithkids.com/events/drop-in-thanksgiving-story-time-cr
 aft-2/
SUMMARY:Drop-In Thanksgiving Story Time &amp\; Craft
DESCRIPTION:\nJoin Dexter District Library for this seasonal story time cel
 ebrating Thanksgiving\, food\, and families. Geared for children ages five
  and under but everyone is welcome. At the end of story time\, you'll make
  a simple craft.\n\n\n\nFor ages 5 &amp\; under.\n\n\n\nDrop-in\, no regis
 tration needed.\n\n\n\n\n\n\n\n\n\n\n
CATEGORIES:Arbor Annie's Highlights,Crafts,Free,Indoor
 Activities,Preschoolers,Storytime,Thanksgiving,Toddler
LOCATION:Dexter District Library\, 3255 Alpine St\, Dexter\, Michigan\, 481
 30\, Dexter\, United States
GEO:42.340266;-83.88900000000001
X-APPLE-STRUCTURED-LOCATION;VALUE=URI;X-ADDRESS=3255 Alpine St\, Dexter\, M
 ichigan\, 48130\, Dexter\, United States;X-APPLE-RADIUS=100;X-TITLE=Dexter
  District Library:geo:42.340266,-83.88900000000001
END:VEVENT
BEGIN:VTIMEZONE
TZID:America/Detroit
X-LIC-LOCATION:America/Detroit
BEGIN:STANDARD
DTSTART:20251102T010000
TZOFFSETFROM:-0400
TZOFFSETTO:-0500
TZNAME:EST
END:STANDARD
END:VTIMEZONE
END:VCALENDAR