BEGIN:VCALENDAR
VERSION:2.0
PRODID:-//wp-events-plugin.com//7.2.3.1//EN
TZID:America/Detroit
X-WR-TIMEZONE:America/Detroit
BEGIN:VEVENT
UID:75443@annarborwithkids.com
DTSTART;TZID=America/Detroit:20251025T110000
DTEND;TZID=America/Detroit:20251025T113000
DTSTAMP:20250924T202047Z
URL:https://annarborwithkids.com/events/drop-in-halloween-story-time-craft
 -2/
SUMMARY:Drop-in Halloween Story Time &amp\; Craft
DESCRIPTION:\nJoin the Dexter District Library for a special Halloween stor
 y time filled with spooky books\, songs\, and flannel board fun! Geared fo
 r children ages five and under but everyone is welcome. Make a simple craf
 t at the end of story time.\n\n\n\nFor ages 5 &amp\; under. No registratio
 n needed. The event is drop-in.\n\n\n\n\n\n\n\n\n
CATEGORIES:Arbor Annie's Highlights,Crafts,Free,Halloween,Indoor
 Activities,Preschoolers,Storytime,Toddler
LOCATION:Dexter District Library\, 3255 Alpine St\, Dexter\, Michigan\, 481
 30\, Dexter\, United States
GEO:42.340266;-83.88900000000001
X-APPLE-STRUCTURED-LOCATION;VALUE=URI;X-ADDRESS=3255 Alpine St\, Dexter\, M
 ichigan\, 48130\, Dexter\, United States;X-APPLE-RADIUS=100;X-TITLE=Dexter
  District Library:geo:42.340266,-83.88900000000001
END:VEVENT
BEGIN:VTIMEZONE
TZID:America/Detroit
X-LIC-LOCATION:America/Detroit
BEGIN:DAYLIGHT
DTSTART:20250309T030000
TZOFFSETFROM:-0500
TZOFFSETTO:-0400
TZNAME:EDT
END:DAYLIGHT
END:VTIMEZONE
END:VCALENDAR