BEGIN:VCALENDAR
VERSION:2.0
PRODID:-//wp-events-plugin.com//7.2.3.1//EN
TZID:America/Detroit
X-WR-TIMEZONE:America/Detroit
BEGIN:VEVENT
UID:67251@annarborwithkids.com
DTSTART;TZID=America/Detroit:20221030T140000
DTEND;TZID=America/Detroit:20221030T160000
DTSTAMP:20221020T141344Z
URL:https://annarborwithkids.com/events/drive-thru-trunk-or-treat/
SUMMARY:Drive Thru Trunk or Treat
DESCRIPTION:\nThe Ann Arbor Area Community Foundation is sponsoring a Drive
  Thru Trunk or Treat at Christian Love Fellowship Church\n\n\n\nTrunk or T
 reat will run from 2-4p - or until candy is gone. Plan to arrive early so 
 you don't miss out.\n\n\n\n\nhttps://www.facebook.com/YpsilantiDistrictLib
 rary/photos/pcb.10170492021767037/10170492021617037\n\n
CATEGORIES:Arbor Annie's
 Highlights,Elementary,Free,Halloween,Preschoolers,Toddler,Trick or Treat
LOCATION:Christian Love Fellowship Church\, 1601 Stamford Rd\, Ypsilanti\, 
 Michigan\, 48198\, Ypsilanti\, United States
GEO:42.263563;-83.579036
X-APPLE-STRUCTURED-LOCATION;VALUE=URI;X-ADDRESS=1601 Stamford Rd\, Ypsilant
 i\, Michigan\, 48198\, Ypsilanti\, United States;X-APPLE-RADIUS=100;X-TITL
 E=Christian Love Fellowship Church:geo:42.263563,-83.579036
END:VEVENT
BEGIN:VTIMEZONE
TZID:America/Detroit
X-LIC-LOCATION:America/Detroit
BEGIN:DAYLIGHT
DTSTART:20220313T030000
TZOFFSETFROM:-0500
TZOFFSETTO:-0400
TZNAME:EDT
END:DAYLIGHT
END:VTIMEZONE
END:VCALENDAR