BEGIN:VCALENDAR
VERSION:2.0
PRODID:-//wp-events-plugin.com//7.2.3.1//EN
TZID:America/Detroit
X-WR-TIMEZONE:America/Detroit
BEGIN:VEVENT
UID:92992@annarborwithkids.com
DTSTART;TZID=America/Detroit:20260402T103000
DTEND;TZID=America/Detroit:20260402T113000
DTSTAMP:20260311T161639Z
URL:https://annarborwithkids.com/events/dragon-quest/
SUMMARY:Dragon Quest
DESCRIPTION:\nEmbark on a Dragon quest! Enjoy games and crafts that will he
 lp you master the dragon.\n\n\n\nFor ages 6-10. Registration is required.\
 n\n\n\n\n
CATEGORIES:Advance Registration,Arbor Annie's
 Highlights,Crafts,Elementary,Free,Games,Indoor Activities,Registration
 Required
LOCATION:Saline District Library\, 555 N. Maple Rd\, Saline\, Michigan\, 48
 176\, Saline\, United States
GEO:42.17779;-83.775429
X-APPLE-STRUCTURED-LOCATION;VALUE=URI;X-ADDRESS=555 N. Maple Rd\, Saline\, 
 Michigan\, 48176\, Saline\, United States;X-APPLE-RADIUS=100;X-TITLE=Salin
 e District Library:geo:42.17779,-83.775429
END:VEVENT
BEGIN:VTIMEZONE
TZID:America/Detroit
X-LIC-LOCATION:America/Detroit
BEGIN:DAYLIGHT
DTSTART:20260308T030000
TZOFFSETFROM:-0500
TZOFFSETTO:-0400
TZNAME:EDT
END:DAYLIGHT
END:VTIMEZONE
END:VCALENDAR