BEGIN:VCALENDAR
VERSION:2.0
PRODID:-//wp-events-plugin.com//7.2.3.1//EN
TZID:America/Detroit
X-WR-TIMEZONE:America/Detroit
BEGIN:VEVENT
UID:22872@annarborwithkids.com
DTSTART;TZID=America/Detroit:20251024T173000
DTEND;TZID=America/Detroit:20251024T190000
DTSTAMP:20250806T133918Z
URL:https://annarborwithkids.com/events/downtown-trick-treat/
SUMMARY:Downtown Trick or Treat
DESCRIPTION:\nCome join the fun Downtown Milan during our annual Downtown T
 rick or Treat event presented by the Milan Area Chamber of Commerce!\n\n\n
 \nWear your costume and head down on Friday\, October 24th from 5:30-7pm! 
 Stay on the lookout for updates! They can't wait to see everyone and make 
 this the best year yet!\n\n\n\nMilan Area Chamber hosts Downtown Trick or 
 Treat with area merchants\, businesses\, and organizations passing out can
 dy and treats from their storefronts as well as stations setup to and thro
 ugh Wilson Park.\n\n\n\n\n\n\n
CATEGORIES:Arbor Annie's
 Highlights,Babies,Elementary,Free,Halloween,Preschoolers,Toddler,Trick or
 Treat
LOCATION:Downtown Milan\, Main St\, Milan\, Michigan\, 48160\, Milan\, Unit
 ed States
GEO:42.0849219;-83.68324960000001
X-APPLE-STRUCTURED-LOCATION;VALUE=URI;X-ADDRESS=Main St\, Milan\, Michigan\
 , 48160\, Milan\, United States;X-APPLE-RADIUS=100;X-TITLE=Downtown Milan:
 geo:42.0849219,-83.68324960000001
END:VEVENT
BEGIN:VTIMEZONE
TZID:America/Detroit
X-LIC-LOCATION:America/Detroit
BEGIN:DAYLIGHT
DTSTART:20250309T030000
TZOFFSETFROM:-0500
TZOFFSETTO:-0400
TZNAME:EDT
END:DAYLIGHT
END:VTIMEZONE
END:VCALENDAR