BEGIN:VCALENDAR
VERSION:2.0
PRODID:-//wp-events-plugin.com//7.2.3.1//EN
TZID:America/Detroit
X-WR-TIMEZONE:America/Detroit
BEGIN:VEVENT
UID:35573@annarborwithkids.com
DTSTART;TZID=America/Detroit:20251031T130000
DTEND;TZID=America/Detroit:20251031T160000
DTSTAMP:20251009T171504Z
URL:https://annarborwithkids.com/events/downtown-dexter-trick-treat/
SUMMARY:Downtown Dexter Trick or Treat
DESCRIPTION:\nDexter Chamber of Commerce is having a trick or treat from 1-
 4p. Participating downtown businesses will be handing out candy at their s
 tore (look for balloons). Non-downtown businesses will be setup in Monumen
 t Park.\n\n\n\n\n\n\n
CATEGORIES:Arbor Annie's
 Highlights,Babies,Free,Halloween,Preschoolers,Toddler,Trick or Treat
LOCATION:Monument Park\, 8000-8558 Ann Arbor St\, Dexter\, Michigan\, 48130
 \, Dexter\, United States
GEO:42.3371472;-83.88699509999998
X-APPLE-STRUCTURED-LOCATION;VALUE=URI;X-ADDRESS=8000-8558 Ann Arbor St\, De
 xter\, Michigan\, 48130\, Dexter\, United States;X-APPLE-RADIUS=100;X-TITL
 E=Monument Park:geo:42.3371472,-83.88699509999998
END:VEVENT
BEGIN:VTIMEZONE
TZID:America/Detroit
X-LIC-LOCATION:America/Detroit
BEGIN:DAYLIGHT
DTSTART:20250309T030000
TZOFFSETFROM:-0500
TZOFFSETTO:-0400
TZNAME:EDT
END:DAYLIGHT
END:VTIMEZONE
END:VCALENDAR