BEGIN:VCALENDAR
VERSION:2.0
PRODID:-//wp-events-plugin.com//7.2.3.1//EN
TZID:America/Detroit
X-WR-TIMEZONE:America/Detroit
BEGIN:VEVENT
UID:67030@annarborwithkids.com
DTSTART;TZID=America/Detroit:20261101T090000
DTEND;TZID=America/Detroit:20261101T110000
DTSTAMP:20260326T170523Z
URL:https://annarborwithkids.com/events/donut-dash/
SUMMARY:Donut Dash
DESCRIPTION:\nLace up your running shoes and bring your appetite for fun! T
 he Donut Dash 5K Run/Walk and 1 Mile Fun Run are back for its fourth year 
 to support Skyline High School Athletics. This family-friendly 5K race win
 ds through the Skyline campus and surrounding neighborhoods\, offering a p
 erfect mix of fitness\, community spirit\, and sweet rewards. The Fun Run\
 , for the 12-under crowd\, is a mile around the Skyline track\, paced by m
 embers of the Skyline Cross Country team.\n\n\n\nWhether you're a seasoned
  runner\, a casual jogger\, or just in it for the donuts\, this event has 
 something for everyone!\n\n\n\nWhat Makes the Donut Dash Special?\n\n\n\n\
 nFresh Washtenaw Dairy donuts waiting at the finish line\n\n\n\nUnique d
 onut trophies for top 5K finishers\n\n\n\nMedals for all Fun Run partici
 pants\n\n\n\nA welcoming atmosphere for runners\, walkers\, and families o
 f all ages\n\n\n\nAll proceeds support Skyline High School athletics\n\n\n
 \nCoffee truck provided by Bearclaw Coffee\n\n\n\n\nPricing for Fun Run\n\
 n\n\n\n$10 until 8/31\n\n\n\n$15 from 9/1 to 10/31\n\n\n\n\nRegister Early
  for 5K Discounted Pricing!\n\n\n\n\n$15 until 7/31\n\n\n\n$20 from 8/1 to
  8/31\n\n\n\n$25 from 9/1 to 9/30 (last day to order a race t-shirt)\n\n\n
 \n$30 from 10/1 to 10/14\n\n\n\n$35 from 10/15 to 10/31\n\n\n\n\nNO DAY OF
  RACE REGISTRATION\n\n\n\nLast day to order race t-shirt ($10) is 9/30.\n\
 n\n\nSpecial pricing for&nbsp\;K-12 students&nbsp\;and&nbsp\;Skyline staff
  and coaches&nbsp\;is offered.\n\n\n\nA&nbsp\;Family Package&nbsp\;(unlimi
 ted members in the same household) is available for $80 until 9/30. Select
  "Multi-Person Pricing" during registration to take advantage of this disc
 ount.\n\n\n\n\n
CATEGORIES:Advance Registration,Arbor Annie's Highlights,Charitable
 Event,Elementary,Fitness/Health,Food,High Schoolers,Middle
 Schoolers,Outdoor,Parents,Race,School Fundraiser
LOCATION:Skyline High School\, 2552 N. Maple\, Ann Arbor\, Michigan\, 48103
 \, West Ann Arbor\, United States
GEO:42.30482;-83.77894320000001
X-APPLE-STRUCTURED-LOCATION;VALUE=URI;X-ADDRESS=2552 N. Maple\, Ann Arbor\,
  Michigan\, 48103\, West Ann Arbor\, United States;X-APPLE-RADIUS=100;X-TI
 TLE=Skyline High School:geo:42.30482,-83.77894320000001
END:VEVENT
BEGIN:VTIMEZONE
TZID:America/Detroit
X-LIC-LOCATION:America/Detroit
BEGIN:STANDARD
DTSTART:20261101T010000
TZOFFSETFROM:-0400
TZOFFSETTO:-0500
TZNAME:EST
END:STANDARD
END:VTIMEZONE
END:VCALENDAR