BEGIN:VCALENDAR
VERSION:2.0
PRODID:-//wp-events-plugin.com//7.2.3.1//EN
TZID:America/Detroit
X-WR-TIMEZONE:America/Detroit
BEGIN:VEVENT
UID:84887@annarborwithkids.com
DTSTART;TZID=America/Detroit:20260419T080000
DTEND;TZID=America/Detroit:20260419T110000
DTSTAMP:20260318T170159Z
URL:https://annarborwithkids.com/events/donot-stop-half-marathon-ann-arbor
 /
SUMMARY:Donot Stop Half Marathon - Ann Arbor
DESCRIPTION:\nQuestion: Is it supposed to be DO NOT STOP\, or DONUT STOP? A
 nswer: YES!\n\n\n\nLike Running or Walking? Love Donuts? This race is for 
 you! Join Bodies Racing Company for the annual DoNot Stop Half Marathon\, 
 5k/10k! A donut-themed event that is perfect for the whole family.\n\n\n\n
 The fun includes –\n\n\n\n\nGreat Swag – designer shirt &amp\; custom 
 medal\n\n\n\nChip-timing with live results and awards\n\n\n\nFree photos\n
 \n\n\nDelicious donut waiting at the finish linePlenty of fun!\n\n\n\n\nGr
 ab your friends and family\, you are not going to want to miss this one!\n
 \n\n\nCan't make the race? No problem! We offer a virtual race option wher
 e you can run anywhere\, at any time\, and still earn the fun swag!\n\n\n\
 n*Youth-based pricing for the 5k/10k\, 12 &amp\; Under are only $17\n\n\n\
 n\n\n\n\n\n5k\, 10k &amp\; Hlaf Marathon registration includes a custom bi
 b\, designer shirt\, and an awesome finisher medal!\n\n\n\n1 Mile registra
 tion (untimed) includes a custom bib\, designer shirt and an awesome finis
 her medal!\n\n\n\nThe kid's dash is a fun\, untimed dash for kiddos ages 1
 0 and under. Registration includes a mini bib\, youth-sized shirt\, and a 
 specifically crafted medal for the kids' dash event! (If your child wants 
 to run the kid's dash\, and doesn't want the SWAG\, they are welcome to ru
 n on race day for free!)\n\n\n\n\n*Register by Thursday at midnight two we
 eks BEFORE the race to be guaranteed a shirt\n\n\n\n\n
CATEGORIES:Advance Registration,Arbor Annie's
 Highlights,Elementary,Food,High Schoolers,Middle
 Schoolers,Outdoor,Parents,Race,Registration Required
LOCATION:Island Lake Recreation Area\, 6301 Kensington Rd\, Brighton\, Mich
 igan\, 48116\, Brighton\, United States
GEO:42.513062;-83.68981610000003
X-APPLE-STRUCTURED-LOCATION;VALUE=URI;X-ADDRESS=6301 Kensington Rd\, Bright
 on\, Michigan\, 48116\, Brighton\, United States;X-APPLE-RADIUS=100;X-TITL
 E=Island Lake Recreation Area:geo:42.513062,-83.68981610000003
END:VEVENT
BEGIN:VTIMEZONE
TZID:America/Detroit
X-LIC-LOCATION:America/Detroit
BEGIN:DAYLIGHT
DTSTART:20260308T030000
TZOFFSETFROM:-0500
TZOFFSETTO:-0400
TZNAME:EDT
END:DAYLIGHT
END:VTIMEZONE
END:VCALENDAR