BEGIN:VCALENDAR
VERSION:2.0
PRODID:-//wp-events-plugin.com//7.2.3.1//EN
TZID:America/Detroit
X-WR-TIMEZONE:America/Detroit
BEGIN:VEVENT
UID:76300@annarborwithkids.com
DTSTART;TZID=America/Detroit:20240714T120000
DTEND;TZID=America/Detroit:20240714T160000
DTSTAMP:20240702T205730Z
URL:https://annarborwithkids.com/events/diy-guitar-pedal/
SUMMARY:DIY Guitar Pedal
DESCRIPTION:\nUsing a variety of tools attendees will build a crunchy\, dis
 torted guitar pedal from scratch.\n\n\n\nHeld in Secret Lab. For teens &am
 p\; adults.\n\n\n\n\n
CATEGORIES:Arbor Annie's Highlights,Crafts,Free,High Schoolers,Indoor
 Activities,Middle Schoolers,Music/Concerts,Parents
LOCATION:Downtown Branch of AADL\, 343 South Fifth Avenue\, Ann Arbor\, Mic
 higan\, 48104\, Downtown\, United States
GEO:42.278198;-83.745971
X-APPLE-STRUCTURED-LOCATION;VALUE=URI;X-ADDRESS=343 South Fifth Avenue\, An
 n Arbor\, Michigan\, 48104\, Downtown\, United States;X-APPLE-RADIUS=100;X
 -TITLE=Downtown Branch of AADL:geo:42.278198,-83.745971
END:VEVENT
BEGIN:VTIMEZONE
TZID:America/Detroit
X-LIC-LOCATION:America/Detroit
BEGIN:DAYLIGHT
DTSTART:20240310T030000
TZOFFSETFROM:-0500
TZOFFSETTO:-0400
TZNAME:EDT
END:DAYLIGHT
END:VTIMEZONE
END:VCALENDAR