BEGIN:VCALENDAR
VERSION:2.0
PRODID:-//wp-events-plugin.com//7.2.3.1//EN
TZID:America/Detroit
X-WR-TIMEZONE:America/Detroit
BEGIN:VEVENT
UID:60412@annarborwithkids.com
DTSTART;TZID=America/Detroit:20251024T173000
DTEND;TZID=America/Detroit:20251024T190000
DTSTAMP:20251009T172404Z
URL:https://annarborwithkids.com/events/dixboro-trunk-or-treat-fall-festiv
 al-2/
SUMMARY:Dixboro Trunk or Treat & Fall Festival
DESCRIPTION:\nDixboro United Methodist Church and the Dixboro Farmers Marke
 t are holding their 13th annual trunk or treat and fall festival.\n\n\n\nT
 runk or Treat starts at 5:30p. Don't forget to visit the farmers market fr
 om 3-6p.\n\n\n\nDon't forget a bag for treats &amp\; to wear your costume.
 \n\n\n\nIf the weather is bad\, check Facebook for details. In the past  t
 hey have held a Halloween Drive Thru in the Church's parking lot!\n\n\n\n\
 n\n\n\n\n\n\n\n\n
CATEGORIES:Arbor Annie's Highlights,Elementary,Fall Fun,Farmers
 Market,Free,Halloween,Middle Schoolers,Outdoor,Preschoolers,Toddler,Trick
 or Treat
LOCATION:Dixboro Farmers Market\, 5221 Church Rd\, Ann Arbor\, Michigan\, 4
 8105\, Dixboro\, United States
GEO:42.3136136;-83.6560761
X-APPLE-STRUCTURED-LOCATION;VALUE=URI;X-ADDRESS=5221 Church Rd\, Ann Arbor\
 , Michigan\, 48105\, Dixboro\, United States;X-APPLE-RADIUS=100;X-TITLE=Di
 xboro Farmers Market:geo:42.3136136,-83.6560761
END:VEVENT
BEGIN:VTIMEZONE
TZID:America/Detroit
X-LIC-LOCATION:America/Detroit
BEGIN:DAYLIGHT
DTSTART:20250309T030000
TZOFFSETFROM:-0500
TZOFFSETTO:-0400
TZNAME:EDT
END:DAYLIGHT
END:VTIMEZONE
END:VCALENDAR