BEGIN:VCALENDAR
VERSION:2.0
PRODID:-//wp-events-plugin.com//7.2.3.1//EN
TZID:America/Detroit
X-WR-TIMEZONE:America/Detroit
BEGIN:VEVENT
UID:93551@annarborwithkids.com
DTSTART;TZID=America/Detroit:20260524T140000
DTEND;TZID=America/Detroit:20260524T140000
DTSTAMP:20260421T221120Z
URL:https://annarborwithkids.com/events/disneys-101-dalmations-kids-2026-0
 5-23-2026-05-24/
SUMMARY:Disney's The Little Mermaid JR.
DESCRIPTION:\nDisney’s The Little Mermaid JR.&nbsp\;dives under the sea w
 ith Professional Youth Theatre of Michigan’s talented young performers i
 n this 60-minute musical adventure! Based on the beloved animated film\, t
 his enchanting tale follows Ariel\, a curious mermaid who dreams of life b
 eyond the ocean. When she makes a daring deal with the sea witch Ursula\, 
 Ariel trades her voice for a chance to live on land and win the heart of P
 rince Eric.\n\n\n\nFeaturing beloved songs like “Part of Your World\,”
  “Under the Sea\,” and “Kiss the Girl\,” this youth-friendly adapt
 ation brings all the magic\, music\, and heart of the original to the stag
 e. Join us for a vibrant\, family-friendly production that celebrates brav
 ery\, love\, and finding where you truly belong.\n\n\n\n\n\nPYTMI The Litt
 le Mermaid Jr. Showtimes\n\n\n\n[events_list tag="PYTMI" scope="2026-05-18
 \,2026-05-31" search="dalmatians"]🎭 #_{l\, F j} at #_EVENTTIMES - #_EVE
 NTLINK[/events_list]\n\n\n
CATEGORIES:Advance Registration,Arbor Annie's Highlights,Elementary,High
 Schoolers,Indoor Activities,Middle Schoolers,Optional
 Registration,Parents,Preschoolers,Theater
LOCATION:Riverside Arts Center\, 76 North Huron Street\, Ypsilanti\, MI\, 4
 8197\, United States
GEO:42.242199;-83.61271729999999
X-APPLE-STRUCTURED-LOCATION;VALUE=URI;X-ADDRESS=76 North Huron Street\, Yps
 ilanti\, MI\, 48197\, United States;X-APPLE-RADIUS=100;X-TITLE=Riverside A
 rts Center:geo:42.242199,-83.61271729999999
END:VEVENT
BEGIN:VTIMEZONE
TZID:America/Detroit
X-LIC-LOCATION:America/Detroit
BEGIN:DAYLIGHT
DTSTART:20260308T030000
TZOFFSETFROM:-0500
TZOFFSETTO:-0400
TZNAME:EDT
END:DAYLIGHT
END:VTIMEZONE
END:VCALENDAR