BEGIN:VCALENDAR
VERSION:2.0
PRODID:-//wp-events-plugin.com//7.2.3.1//EN
TZID:America/Detroit
X-WR-TIMEZONE:America/Detroit
BEGIN:VEVENT
UID:90191@annarborwithkids.com
DTSTART;TZID=America/Detroit:20251024T170000
DTEND;TZID=America/Detroit:20251024T193000
DTSTAMP:20251016T210636Z
URL:https://annarborwithkids.com/events/dinolands-halloween-party/
SUMMARY:Dinoland's Halloween Party
DESCRIPTION:\nDinoland is having a Halloween Party!!\n\n\n\nKids are encour
 aged to wear their costume and have fun exploring the playscape. \n\n\n\nA
 ctivities include:\n\n\n\n\nHalloween bag decorating\n\n\n\nFun Crafts\n\n
 \n\nCookie Decorating\n\n\n\nTattoos\n\n\n\nHalloween Music\n\n\n\n\n$18/c
 hild includes all activities (while supplies last). Grip socks are require
 d.\n\n\n\n\n\n[wpv-view name="activity-by-shortcode-search" search="dinola
 nd"]\n\n\n\n\n\n\n\n\n
CATEGORIES:Arbor Annie's
 Highlights,Crafts,Elementary,Food,Halloween,Indoor Activities,Preschoolers
LOCATION:Dinoland Ann Arbor\, 4735 Washtenaw Avenue\, Ann Arbor\, Michigan\
 , 48108\, United States
GEO:42.252803;-83.667041
X-APPLE-STRUCTURED-LOCATION;VALUE=URI;X-ADDRESS=4735 Washtenaw Avenue\, Ann
  Arbor\, Michigan\, 48108\, United States;X-APPLE-RADIUS=100;X-TITLE=Dinol
 and Ann Arbor:geo:42.252803,-83.667041
END:VEVENT
BEGIN:VTIMEZONE
TZID:America/Detroit
X-LIC-LOCATION:America/Detroit
BEGIN:DAYLIGHT
DTSTART:20250309T030000
TZOFFSETFROM:-0500
TZOFFSETTO:-0400
TZNAME:EDT
END:DAYLIGHT
END:VTIMEZONE
END:VCALENDAR