BEGIN:VCALENDAR
VERSION:2.0
PRODID:-//wp-events-plugin.com//7.2.3.1//EN
TZID:America/Detroit
X-WR-TIMEZONE:America/Detroit
BEGIN:VEVENT
UID:66817@annarborwithkids.com
DTSTART;TZID=America/Detroit:20251012T084500
DTEND;TZID=America/Detroit:20251012T103000
DTSTAMP:20250904T151521Z
URL:https://annarborwithkids.com/events/dicken-run-2/
SUMMARY:Dicken Run
DESCRIPTION:\nThe Dicken Run 5k course winds through the majestic streets a
 round Dicken Elementary School in Ann Arbor\, MI. Come set a new PR or enj
 oy the scenery with friends on one of the fastest courses this side of the
  Huron River! The Dicken Run 5k helps to raise additional funds for Dicken
  Elementary School. Proceeds from the Dicken Run will go to the Dicken Ele
 mentary School PTO. The 5k will start at 8:45am. Awards will take place in
  front of the school at 9:45am. All finishers will receive a sweet Dicken 
 Run 5k sticker.\n\n\n\nPricing -\n\n\n\n\n$20 until August 1\n\n\n\n$25 Au
 gust 2 to September 14\n\n\n\n$30 September 15-October 1\n\n\n\n$35 Octobe
 r 2-11\n\n\n\nNO DAY OF REGISTRATION\n\n\n\n\nParticipant Capacity - 400 r
 unners\n\n\n\nStart Time - 8:45am\n\n\n\nCertified 5k Course - HERE\n\n\n\
 n\n\nOverall Awards - Ann Arbor Running Company Gift Cards\n\n\n\n\nTop 3 
 Overall and Top 3 Masters (Men &amp\; Women). 1st - $30. 2nd - $20. 3rd - 
 $10\n\n\n\nTop 3 male and female in each age group receive a handmade Dick
 en Run 5k ceramic street sign\n\nElementary School (10 &amp\; Under)\n\n\n
 \nMiddle School (11-13)\n\n\n\nHigh School (14-18)\n\n\n\n19-29\n\n\n\n30-
 39\n\n\n\n40-49\n\n\n\n50-59\n\n\n\n60-69\n\n\n\n70-79\n\n\n\n80 &amp\; ov
 er\n\n\n\n\n\n\nEarly Packet Pick-Up &amp\; Late Registration - Saturday\,
  October 11th. 2-4p at Ann Arbor Running Company 901 W Eisenhower Pkwy\, A
 nn Arbor 48103\n\n\n\nRace Day Packet Pick-Up (NO DAY OF REGISTRATION) - S
 unday\, October 12th. 7:30-8:30a at Dicken Elementary School\n\n\n\nRace T
 -Shirts - Shirts are optional and can be purchased when registering before
  September 20\n\n\n\nParking - PLEASE DO NOT PARK ON THE&nbsp\;RACE COURSE
 . Parking instructions will be sent out to race participants a few days be
 fore the event.\n\n\n\n\n
CATEGORIES:Advance Registration,Arbor Annie's Highlights,Charitable
 Event,Elementary,High Schoolers,Middle
 Schoolers,Outdoor,Parents,Race,School Fundraiser
LOCATION:Dicken Elementary\, 2135 Runnymede Boulevard\, Ann Arbor\, Michiga
 n\, 48103\, West\, United States
GEO:42.26293829999999;-83.77642449999996
X-APPLE-STRUCTURED-LOCATION;VALUE=URI;X-ADDRESS=2135 Runnymede Boulevard\, 
 Ann Arbor\, Michigan\, 48103\, West\, United States;X-APPLE-RADIUS=100;X-T
 ITLE=Dicken Elementary:geo:42.26293829999999,-83.77642449999996
END:VEVENT
BEGIN:VTIMEZONE
TZID:America/Detroit
X-LIC-LOCATION:America/Detroit
BEGIN:DAYLIGHT
DTSTART:20250309T030000
TZOFFSETFROM:-0500
TZOFFSETTO:-0400
TZNAME:EDT
END:DAYLIGHT
END:VTIMEZONE
END:VCALENDAR