BEGIN:VCALENDAR
VERSION:2.0
PRODID:-//wp-events-plugin.com//7.2.3.1//EN
TZID:America/Detroit
X-WR-TIMEZONE:America/Detroit
BEGIN:VEVENT
UID:31715@annarborwithkids.com
DTSTART;TZID=America/Detroit:20250526T100000
DTEND;TZID=America/Detroit:20250526T100000
DTSTAMP:20250519T002205Z
URL:https://annarborwithkids.com/events/dexter-memorial-day-parade-2/
SUMMARY:Dexter Memorial Day Parade
DESCRIPTION:\nDexter Memorial Day Parade is at 10a on Memorial Day. A Cerem
 ony will be held at Monument Park after the parade. The parade starts on A
 nn Arbor St\, turns on Main St\, and finishes on Alpine St. in Dexter.\n\n
 \n\n\n
CATEGORIES:Arbor Annie's Highlights,Elementary,Free,High
 Schoolers,Memorial Day,Middle
 Schoolers,Parade,Parents,Preschoolers,Toddler
LOCATION:Monument Park\, 8000-8558 Ann Arbor St\, Dexter\, Michigan\, 48130
 \, Dexter\, United States
GEO:42.3371472;-83.88699509999998
X-APPLE-STRUCTURED-LOCATION;VALUE=URI;X-ADDRESS=8000-8558 Ann Arbor St\, De
 xter\, Michigan\, 48130\, Dexter\, United States;X-APPLE-RADIUS=100;X-TITL
 E=Monument Park:geo:42.3371472,-83.88699509999998
END:VEVENT
BEGIN:VTIMEZONE
TZID:America/Detroit
X-LIC-LOCATION:America/Detroit
BEGIN:DAYLIGHT
DTSTART:20250309T030000
TZOFFSETFROM:-0500
TZOFFSETTO:-0400
TZNAME:EDT
END:DAYLIGHT
END:VTIMEZONE
END:VCALENDAR