BEGIN:VCALENDAR
VERSION:2.0
PRODID:-//wp-events-plugin.com//7.2.3.1//EN
TZID:America/Detroit
X-WR-TIMEZONE:America/Detroit
BEGIN:VEVENT
UID:54648@annarborwithkids.com
DTSTART;TZID=America/Detroit:20260117T100000
DTEND;TZID=America/Detroit:20260117T170000
DTSTAMP:20260116T021810Z
URL:https://annarborwithkids.com/events/dexter-ice-fest/
SUMMARY:Dexter Ice Fest
DESCRIPTION:\nDexter Area Chamber of Commerce brings the ice festival back 
 to Dexter.\n\n\n\nThere will be over 80 ice sculptures in downtown Dexter 
 with live ice carving demos. \n\n\n\n\n10a - Ice Fest Kickoff\n\n\n\n10a-4
 p Cocoa Crawl - Cups handed out in park (one/adult)\n\nDowntown Chic Bouti
 que\n\n\n\nGrace Proper\n\n\n\nAubree's (Gazebo) - $1.50\n\n\n\nAubree's C
 ocoa Bar at Aubrees - $2.99\n\n\n\nHearts and Flowers\n\n\n\nTurchin's Jew
 elry\n\n\n\nLily Place\n\n\n\nCourageous Book Store\n\n\n\n42 North (opens
  at noon)\n\n\n\nErratic Ale: Peppermint Hot Cocoa - $3\n\n\n\n\n\n10a-4p 
 Food Trucks on Central Street\n\nHot Diggity Doughnuts\n\n\n\nKanes Sunset
  Treats\n\n\n\n\n\n10a - Ice Carving Begins\n\nLion by Conqueset &amp\; Ac
 oustech\n\n\n\nK-pop by Pearl Planning\n\n\n\nSnowman by SBK\n\n\n\nTruck 
 by J's Tree Trimming\n\n\n\n\n\n11a-2p - Cookie Decorating sposnored by Ma
 stercraft Plumbing\n\n\n\n11a-3p - Face Painter\n\n
CATEGORIES:Arbor Annie's Highlights,Elementary,Food,Free,High
 Schoolers,Middle Schoolers,Parents,Preschoolers,Toddler,Winter Fun
LOCATION:Monument Park\, 8000-8558 Ann Arbor St\, Dexter\, Michigan\, 48130
 \, Dexter\, United States
GEO:42.3371472;-83.88699509999998
X-APPLE-STRUCTURED-LOCATION;VALUE=URI;X-ADDRESS=8000-8558 Ann Arbor St\, De
 xter\, Michigan\, 48130\, Dexter\, United States;X-APPLE-RADIUS=100;X-TITL
 E=Monument Park:geo:42.3371472,-83.88699509999998
END:VEVENT
BEGIN:VTIMEZONE
TZID:America/Detroit
X-LIC-LOCATION:America/Detroit
BEGIN:STANDARD
DTSTART:20251102T010000
TZOFFSETFROM:-0400
TZOFFSETTO:-0500
TZNAME:EST
END:STANDARD
END:VTIMEZONE
END:VCALENDAR