BEGIN:VCALENDAR
VERSION:2.0
PRODID:-//wp-events-plugin.com//7.2.3.1//EN
TZID:America/Detroit
X-WR-TIMEZONE:America/Detroit
BEGIN:VEVENT
UID:90145@annarborwithkids.com
DTSTART;TZID=America/Detroit:20260501T190000
DTEND;TZID=America/Detroit:20260501T190000
DTSTAMP:20251015T221159Z
URL:https://annarborwithkids.com/events/dexter-drama-club-singin-in-the-ra
 in-2026-05-01/
SUMMARY:Dexter Drama Club Singin' in the Rain
DESCRIPTION:\nThe Dexter Drama Club presents Singin' in the Rain as their s
 pring musical by high school students.\n\n\n\nTickets are $15/general admi
 ssion\, $10/students &amp\; seniors.\n\n\n\nSingin' in the Rain Showtimes\
 n\n\n\n[events_list tag="dexter drama" scope="2026-04-01\,2026-05-20"]🎭
  #_{l\, F j} at #_EVENTTIMES - #_EVENTLINK at Dexter High School[/events_l
 ist]\n\n\n\n\n
CATEGORIES:Advance Registration,Arbor Annie's Highlights,Elementary,High
 Schoolers,Indoor Activities,Middle Schoolers,Optional
 Registration,Parents,Theater
LOCATION:Dexter High School\, 2200 N. Parker Rd\, Dexter\, Michigan\, 48130
 \, Dexter\, United States
GEO:42.321969;-83.89549099999999
X-APPLE-STRUCTURED-LOCATION;VALUE=URI;X-ADDRESS=2200 N. Parker Rd\, Dexter\
 , Michigan\, 48130\, Dexter\, United States;X-APPLE-RADIUS=100;X-TITLE=Dex
 ter High School:geo:42.321969,-83.89549099999999
END:VEVENT
BEGIN:VTIMEZONE
TZID:America/Detroit
X-LIC-LOCATION:America/Detroit
BEGIN:DAYLIGHT
DTSTART:20260308T030000
TZOFFSETFROM:-0500
TZOFFSETTO:-0400
TZNAME:EDT
END:DAYLIGHT
END:VTIMEZONE
END:VCALENDAR