BEGIN:VCALENDAR
VERSION:2.0
PRODID:-//wp-events-plugin.com//7.2.3.1//EN
TZID:America/Detroit
X-WR-TIMEZONE:America/Detroit
BEGIN:VEVENT
UID:78720@annarborwithkids.com
DTSTART;TZID=America/Detroit:20250619T160000
DTEND;TZID=America/Detroit:20250619T220000
DTSTAMP:20250607T204444Z
URL:https://annarborwithkids.com/events/dexter-bicentennial-carnival-2024-
 06-20/
SUMMARY:Dexter Summer Carnival
DESCRIPTION:\nIn 2024\, Dexter hosted a June carnival as part of their Bice
 ntennial Celebration! The American Legion and Knights of Columbus have par
 tnered to bring the carnival back in 2025! The carnival also moves to the 
 American Legion/Knights of Columbus grounds on Dexter-Chelsea Rd.\n\n\n\nT
 he Dexter Summer Carnival will be using Fair Pass - a digital ticketing sy
 stem from Wade Shows. You can buy in the app and use on a phone or load to
  a card at the fair.\n\n\n\nParking will be available in the Broad St city
  lots with accessible parking in front of the Knights of Columbus Hall.\n\
 n\n\n\n
CATEGORIES:Advance Registration,Arbor Annie's Highlights,Carnival
 Rides,Community Fair,Elementary,High Schoolers,Middle Schoolers,Optional
 Registration,Outdoor,Parents,Preschoolers,Toddler
LOCATION:Dexter American Legion\, 8225 Dexter-Chelsea Rd\, Dexter\, Michiga
 n\, 48130\, Dexter\, United States
X-APPLE-STRUCTURED-LOCATION;VALUE=URI;X-ADDRESS=8225 Dexter-Chelsea Rd\, De
 xter\, Michigan\, 48130\, Dexter\, United States;X-APPLE-RADIUS=100;X-TITL
 E=Dexter American Legion:geo:0,0
END:VEVENT
BEGIN:VTIMEZONE
TZID:America/Detroit
X-LIC-LOCATION:America/Detroit
BEGIN:DAYLIGHT
DTSTART:20250309T030000
TZOFFSETFROM:-0500
TZOFFSETTO:-0400
TZNAME:EDT
END:DAYLIGHT
END:VTIMEZONE
END:VCALENDAR