BEGIN:VCALENDAR
VERSION:2.0
PRODID:-//wp-events-plugin.com//7.2.3.1//EN
TZID:America/Detroit
X-WR-TIMEZONE:America/Detroit
BEGIN:VEVENT
UID:37637@annarborwithkids.com
DTSTART;TZID=America/Detroit:20260531T071500
DTEND;TZID=America/Detroit:20260531T110000
DTSTAMP:20260325T223851Z
URL:https://annarborwithkids.com/events/dexter-ann-arbor-run-2/
SUMMARY:Dexter-Ann Arbor Run
DESCRIPTION:\nJoin the Annual Dexter-Ann Arbor Run. \n\n\n\nThe run include
 s options for a Half-Marathon\, 10K\, or a 5K . All Sunday races end on N.
  Main Street. There is also a Kids Run at Ferry Field on Saturday (9:45-11
 a). The expo is at Ferry Field.\n\n\n\nRace times are:\n\n\n\n\n7:15a - 10
 K Run/Walk - Starts from the Finish line\n\n\n\n8:30a - 5K Run/Walk - Star
 ts near Forsythe\n\n\n\n8:30a - Half Marathon - Starts in Dexter near Cree
 kside Intermediary School\n\n\n\n\n\n\n\n\n\n\nStick around after the race
  for Taste of Ann Arbor.\n\n\n\n\n
CATEGORIES:Advance Registration,Arbor Annie's
 Highlights,Elementary,Fitness/Health,High Schoolers,Middle
 Schoolers,Parents,Race,Sport
LOCATION:Main Street & Kingsley\, 100 E. Kingsley St\, Ann Arbor\, Michigan
 \, 48104\, Downtown\, United States
GEO:42.28486849999999;-83.74830789999999
X-APPLE-STRUCTURED-LOCATION;VALUE=URI;X-ADDRESS=100 E. Kingsley St\, Ann Ar
 bor\, Michigan\, 48104\, Downtown\, United States;X-APPLE-RADIUS=100;X-TIT
 LE=Main Street & Kingsley:geo:42.28486849999999,-83.74830789999999
END:VEVENT
BEGIN:VTIMEZONE
TZID:America/Detroit
X-LIC-LOCATION:America/Detroit
BEGIN:DAYLIGHT
DTSTART:20260308T030000
TZOFFSETFROM:-0500
TZOFFSETTO:-0400
TZNAME:EDT
END:DAYLIGHT
END:VTIMEZONE
END:VCALENDAR