BEGIN:VCALENDAR
VERSION:2.0
PRODID:-//wp-events-plugin.com//7.2.3.1//EN
TZID:America/Detroit
X-WR-TIMEZONE:America/Detroit
BEGIN:VEVENT
UID:93389@annarborwithkids.com
DTSTART;TZID=America/Detroit:20260530T094500
DTEND;TZID=America/Detroit:20260530T110000
DTSTAMP:20260325T224506Z
URL:https://annarborwithkids.com/events/dexter-ann-arbor-kids-run/
SUMMARY:Dexter-Ann Arbor Kids Run
DESCRIPTION:\nLet the kids kick-off the annual Dexter-Ann Arbor race with a
  Kids Run on Saturday. The race will take place at UM's Ferry Field track 
 from 9:45-11a. It is conveniently located near packet pickup for the 5K/10
 K &amp\; Half-Marathon at Crisler Center.\n\n\n\nThere are multiple option
 s for the Kids Run:\n\n\n\n\n945a - Track infield opens for packet pickup 
 &amp\; warmups\n\n\n\n10:25a - Welcome &amp\; Opening Remarks\n\n\n\n10:30
 a - 100m Dash (grouped by age)\n\n\n\n10:35a - 400m Dash (Boys &amp\; Girl
 s 5 &amp\; under)\n\n\n\n10:40a - 400m (Boys &amp\; Girls 6 &amp\; older)\
 n\n\n\n10:45a - 800m Dash (Boys &amp\; Girls ages 6-8)\n\n\n\n10:55a - 800
 m (Boys &amp\; Girls 9 &amp\; older)\n\n\n\n11a - 1 mile Family Run\n\n\n\
 n\nOnline registration is processed until race day with race day registrat
 ion available. Please arrive at starting line 5 minutes before your event.
  Kids can run in multiple events.\n\n\n\n\n
CATEGORIES:Advance Registration,Arbor Annie's
 Highlights,Elementary,Fitness/Health,Parents,Preschoolers,Race,Sport,Toddl
 er
LOCATION:Ferry Field\, 1150 S State St\, Ann Arbor\, Michigan\, 48104\, Uni
 ted States
GEO:42.267017;-83.743621
X-APPLE-STRUCTURED-LOCATION;VALUE=URI;X-ADDRESS=1150 S State St\, Ann Arbor
 \, Michigan\, 48104\, United States;X-APPLE-RADIUS=100;X-TITLE=Ferry Field
 :geo:42.267017,-83.743621
END:VEVENT
BEGIN:VTIMEZONE
TZID:America/Detroit
X-LIC-LOCATION:America/Detroit
BEGIN:DAYLIGHT
DTSTART:20260308T030000
TZOFFSETFROM:-0500
TZOFFSETTO:-0400
TZNAME:EDT
END:DAYLIGHT
END:VTIMEZONE
END:VCALENDAR