BEGIN:VCALENDAR
VERSION:2.0
PRODID:-//wp-events-plugin.com//7.2.3.1//EN
TZID:America/Detroit
X-WR-TIMEZONE:America/Detroit
BEGIN:VEVENT
UID:92983@annarborwithkids.com
DTSTART;TZID=America/Detroit:20260421T150000
DTEND;TZID=America/Detroit:20260421T160000
DTSTAMP:20260310T215346Z
URL:https://annarborwithkids.com/events/dd-for-teens-2026-03-24-2026-04-07
 -2026-04-21/
SUMMARY:D&amp\;D for Teens
DESCRIPTION:\nTeens are invited to hang out in the program room and enjoy a
  classic game of D&amp\;D!\n\n\n\nNo registration required.\n
CATEGORIES:Free,Games,High Schoolers,Indoor Activities,Middle Schoolers
LOCATION:Saline District Library\, 555 N. Maple Rd\, Saline\, Michigan\, 48
 176\, Saline\, United States
GEO:42.17779;-83.775429
X-APPLE-STRUCTURED-LOCATION;VALUE=URI;X-ADDRESS=555 N. Maple Rd\, Saline\, 
 Michigan\, 48176\, Saline\, United States;X-APPLE-RADIUS=100;X-TITLE=Salin
 e District Library:geo:42.17779,-83.775429
END:VEVENT
BEGIN:VTIMEZONE
TZID:America/Detroit
X-LIC-LOCATION:America/Detroit
BEGIN:DAYLIGHT
DTSTART:20260308T030000
TZOFFSETFROM:-0500
TZOFFSETTO:-0400
TZNAME:EDT
END:DAYLIGHT
END:VTIMEZONE
END:VCALENDAR