BEGIN:VCALENDAR
VERSION:2.0
PRODID:-//wp-events-plugin.com//7.2.3.1//EN
TZID:America/Detroit
X-WR-TIMEZONE:America/Detroit
BEGIN:VEVENT
UID:71382@annarborwithkids.com
DTSTART;TZID=America/Detroit:20250615T170000
DTEND;TZID=America/Detroit:20250615T220000
DTSTAMP:20250411T163356Z
URL:https://annarborwithkids.com/events/david-zinn-at-top-of-the-park/
SUMMARY:David Zinn at Top of the Park
DESCRIPTION:\nLocal chalk artist David Zinn will be at Top of the Park (wea
 ther pending) making some of his delightful chalk creations. Be on the loo
 kout for him - or his creations.\n\n\n\n\nDavid Zinn’s chalk work began 
 in 2001 as an excuse to linger outdoors\, but has since achieved global no
 toriety through the sharing of photos on Facebook\, Huffington Post UK\, T
 he Cheezburger Network\, Street Art Utopia\, and Archie McPhee’s Endless
  Geyser of Awesome. Be inspired by his ability to incorporate 3-D illusion
 s into familiar scenery and have fun searching for his most frequent chara
 cters\, Sluggo\, a bright green monster with stalk eyes and irreverent hab
 its\, Philomena\, a phlegmatic flying pig\, and many entertaining mice.\n\
 n\n\n\n\n\n\n\nNote: No times are listed\, we based times on the rough hou
 rs of Top of the Park before evening movies start.\n\n\n\n\n
CATEGORIES:Arbor Annie's Highlights,Crafts,Elementary,Free,High
 Schoolers,Middle Schoolers,Outdoor,Parents,Preschoolers,Toddler
LOCATION:Top of the Park\, 915 E. Washington St\, Ann Arbor\, Michigan\, 48
 109\, University of Michigan\, United States
GEO:42.2807892;-83.73815560000003
X-APPLE-STRUCTURED-LOCATION;VALUE=URI;X-ADDRESS=915 E. Washington St\, Ann 
 Arbor\, Michigan\, 48109\, University of Michigan\, United States;X-APPLE-
 RADIUS=100;X-TITLE=Top of the Park:geo:42.2807892,-83.73815560000003
END:VEVENT
BEGIN:VTIMEZONE
TZID:America/Detroit
X-LIC-LOCATION:America/Detroit
BEGIN:DAYLIGHT
DTSTART:20250309T030000
TZOFFSETFROM:-0500
TZOFFSETTO:-0400
TZNAME:EDT
END:DAYLIGHT
END:VTIMEZONE
END:VCALENDAR