BEGIN:VCALENDAR
VERSION:2.0
PRODID:-//wp-events-plugin.com//7.2.3.1//EN
TZID:America/Detroit
X-WR-TIMEZONE:America/Detroit
BEGIN:VEVENT
UID:78330@annarborwithkids.com
DTSTART;TZID=America/Detroit:20250715T170000
DTEND;TZID=America/Detroit:20250715T200000
DTSTAMP:20250630T212706Z
URL:https://annarborwithkids.com/events/dart-for-art-2/
SUMMARY:Dart for Art
DESCRIPTION:\nLace up your shoes and join the excitement! Dart for Art pres
 ented by The Ann Arbor Street Art Fair is an all-inclusive\, one-mile run/
 walk in scenic downtown Ann Arbor. Whether you’re a top runner competing
  for prizes or a family just looking for some fun\, this one mile course h
 as something for everyone. \n\n\n\nThis year's course starts on North Univ
 ersity and heads south through campus to Willard street before looping bac
 k to finish on North University.\n\n\n\n\n6p - The Teal Kids Dash (15 &amp
 \; Under) is free for participants!\n\n\n\n6:15p - Orange Featured Race (a
 ges 13+) Competitive Race - $30\n\n\n\n6:30p - Magenta Community Race - Al
 l runners and walkers are welcome to join. Strollers are allowed - $30 for
  ages 13+\, $15 for 12 &amp\; under\n\n\n\n\nNote prices go up on July 13.
 \n\n\n\n\n\n\n
CATEGORIES:Advance Registration,Arbor Annie's
 Highlights,Elementary,Fitness/Health,High Schoolers,Middle
 Schoolers,Outdoor,Parents,Race
LOCATION:Ingalls Mall\, 881 North University\, Ann Arbor\, Michigan\, 48109
 \, Campus\, United States
GEO:42.2794218;-83.7387028
X-APPLE-STRUCTURED-LOCATION;VALUE=URI;X-ADDRESS=881 North University\, Ann 
 Arbor\, Michigan\, 48109\, Campus\, United States;X-APPLE-RADIUS=100;X-TIT
 LE=Ingalls Mall:geo:42.2794218,-83.7387028
END:VEVENT
BEGIN:VTIMEZONE
TZID:America/Detroit
X-LIC-LOCATION:America/Detroit
BEGIN:DAYLIGHT
DTSTART:20250309T030000
TZOFFSETFROM:-0500
TZOFFSETTO:-0400
TZNAME:EDT
END:DAYLIGHT
END:VTIMEZONE
END:VCALENDAR