BEGIN:VCALENDAR
VERSION:2.0
PRODID:-//wp-events-plugin.com//7.2.3.1//EN
TZID:America/Detroit
X-WR-TIMEZONE:America/Detroit
BEGIN:VEVENT
UID:33001@annarborwithkids.com
DTSTART;TZID=America/Detroit:20190901T133000
DTEND;TZID=America/Detroit:20190901T183000
DTSTAMP:20200729T032025Z
URL:https://annarborwithkids.com/events/dancing-in-the-streets-3/
SUMMARY:Dancing in the Streets
DESCRIPTION:Come downtown for a fun time Dancing in the Streets.\n\nThere w
 ill be multiple stages offering different styles of dancing\, and mini-con
 certs. There will also be special activities to entertain children.
CATEGORIES:Age Range,Arbor Annie's Highlights,Babies,Elementary,Free,High
 Schoolers,Middle Schoolers,Parents,Preschoolers,Toddler
LOCATION:Main Street Area\, Main Street and Liberty\, Ann Arbor \, MI\, 481
 04\, Downtown\, United States
GEO:42.2795761;-83.74859989999999
X-APPLE-STRUCTURED-LOCATION;VALUE=URI;X-ADDRESS=Main Street and Liberty\, A
 nn Arbor \, MI\, 48104\, Downtown\, United States;X-APPLE-RADIUS=100;X-TIT
 LE=Main Street Area:geo:42.2795761,-83.74859989999999
END:VEVENT
BEGIN:VTIMEZONE
TZID:America/Detroit
X-LIC-LOCATION:America/Detroit
BEGIN:DAYLIGHT
DTSTART:20190310T030000
TZOFFSETFROM:-0500
TZOFFSETTO:-0400
TZNAME:EDT
END:DAYLIGHT
END:VTIMEZONE
END:VCALENDAR