BEGIN:VCALENDAR
VERSION:2.0
PRODID:-//wp-events-plugin.com//7.2.3.1//EN
TZID:America/Detroit
X-WR-TIMEZONE:America/Detroit
BEGIN:VEVENT
UID:66965@annarborwithkids.com
DTSTART;TZID=America/Detroit:20251026T160000
DTEND;TZID=America/Detroit:20251026T180000
DTSTAMP:20250917T153804Z
URL:https://annarborwithkids.com/events/dancers-edge-halloween-party/
SUMMARY:Dancer's Edge Halloween Party
DESCRIPTION:\nDancer's Edge in Dexter will be having a Halloween Party that
  is open to the public. Come in costume for a spooktacular time.\n\n\n\nRe
 gister now.\n\n\n\n\n
CATEGORIES:Advance Registration,Arbor Annie's
 Highlights,Elementary,Halloween,Indoor Activities,Preschoolers,Toddler
LOCATION:Dancer’s Edge Dance Studio\, 3115 Broad Street\, Dexter\, Michig
 an\, 48130\, Dexter\, United States
GEO:42.337535;-83.88948800000003
X-APPLE-STRUCTURED-LOCATION;VALUE=URI;X-ADDRESS=3115 Broad Street\, Dexter\
 , Michigan\, 48130\, Dexter\, United States;X-APPLE-RADIUS=100;X-TITLE=Dan
 cer’s Edge Dance Studio:geo:42.337535,-83.88948800000003
END:VEVENT
BEGIN:VTIMEZONE
TZID:America/Detroit
X-LIC-LOCATION:America/Detroit
BEGIN:DAYLIGHT
DTSTART:20250309T030000
TZOFFSETFROM:-0500
TZOFFSETTO:-0400
TZNAME:EDT
END:DAYLIGHT
END:VTIMEZONE
END:VCALENDAR