BEGIN:VCALENDAR
VERSION:2.0
PRODID:-//wp-events-plugin.com//7.2.3.1//EN
TZID:America/Detroit
X-WR-TIMEZONE:America/Detroit
BEGIN:VEVENT
UID:90855@annarborwithkids.com
DTSTART;TZID=America/Detroit:20260314T103000
DTEND;TZID=America/Detroit:20260314T113000
DTSTAMP:20260219T193927Z
URL:https://annarborwithkids.com/events/dads-as-doulas-showing-up-with-con
 fidence/
SUMMARY:Dads as Doulas: Showing Up with Confidence
DESCRIPTION:\nThis hands-on class is designed to help fathers and partners 
 learn to confidently support their loved one through pregnancy\, birth\, a
 nd the postpartum period. \n\n\n\nTwo experienced community doulas will gu
 ide participants through childbirth basics\, comfort measures during labor
 \, newborn and breastfeeding care\, and how to recognize postpartum warnin
 g signs. \n\n\n\nThe goal is to equip dads with the knowledge and tools th
 ey need to be present\, supportive\, and empowered--leading to stronger fa
 milies and better birth outcomes. \n
CATEGORIES:Arbor Annie's Highlights,Expecting Parents,Free,High
 Schoolers,Indoor Activities,Parents
LOCATION:Ypsilanti District Library - Superior\, 1900 Harris Rd\, Ypsilanti
 \, Michigan\, 48198\, Ypsilanti\, United States
GEO:42.270591;-83.584503
X-APPLE-STRUCTURED-LOCATION;VALUE=URI;X-ADDRESS=1900 Harris Rd\, Ypsilanti\
 , Michigan\, 48198\, Ypsilanti\, United States;X-APPLE-RADIUS=100;X-TITLE=
 Ypsilanti District Library - Superior:geo:42.270591,-83.584503
END:VEVENT
BEGIN:VTIMEZONE
TZID:America/Detroit
X-LIC-LOCATION:America/Detroit
BEGIN:DAYLIGHT
DTSTART:20260308T030000
TZOFFSETFROM:-0500
TZOFFSETTO:-0400
TZNAME:EDT
END:DAYLIGHT
END:VTIMEZONE
END:VCALENDAR