BEGIN:VCALENDAR
VERSION:2.0
PRODID:-//wp-events-plugin.com//7.2.3.1//EN
TZID:America/Detroit
X-WR-TIMEZONE:America/Detroit
BEGIN:VEVENT
UID:89440@annarborwithkids.com
DTSTART;TZID=America/Detroit:20260111T150000
DTEND;TZID=America/Detroit:20260111T160000
DTSTAMP:20251208T202501Z
URL:https://annarborwithkids.com/events/custom-monster-paper-dolls/
SUMMARY:Custom Abominable Paper Dolls
DESCRIPTION:\nBrrr\, do you feel that cold wind? It's winter time\, so let'
 s make some snow monsters! Choose different heads\, bodies\, and limbs to 
 make your very own monster paper doll! We'll provide the pieces and you co
 lor them and arrange them how you like.\n\n\n\nFor grades K-5\n\n\n
CATEGORIES:Arbor Annie's Highlights,Crafts,Elementary,Free,Indoor
 Activities
LOCATION:Traverwood Branch of AADL\, 3333 Traverwood Dr\, Ann Arbor\, Michi
 gan\, 48105\, North Ann Arbor\, United States
GEO:42.307952;-83.71480500000001
X-APPLE-STRUCTURED-LOCATION;VALUE=URI;X-ADDRESS=3333 Traverwood Dr\, Ann Ar
 bor\, Michigan\, 48105\, North Ann Arbor\, United States;X-APPLE-RADIUS=10
 0;X-TITLE=Traverwood Branch of AADL:geo:42.307952,-83.71480500000001
END:VEVENT
BEGIN:VTIMEZONE
TZID:America/Detroit
X-LIC-LOCATION:America/Detroit
BEGIN:STANDARD
DTSTART:20251102T010000
TZOFFSETFROM:-0400
TZOFFSETTO:-0500
TZNAME:EST
END:STANDARD
END:VTIMEZONE
END:VCALENDAR