BEGIN:VCALENDAR
VERSION:2.0
PRODID:-//wp-events-plugin.com//7.2.3.1//EN
TZID:America/Detroit
X-WR-TIMEZONE:America/Detroit
BEGIN:VEVENT
UID:93221@annarborwithkids.com
DTSTART;TZID=America/Detroit:20260416T180000
DTEND;TZID=America/Detroit:20260416T193000
DTSTAMP:20260323T180606Z
URL:https://annarborwithkids.com/events/culinary-historians-taste-of-revol
 ution-soldiers-food-in-the-war-for-independence/
SUMMARY:Culinary Historians | Taste of Revolution: Soldiers’ Food in the 
 War for Independence
DESCRIPTION:\nBaker and historian Jeff Pavlik will share a look into the pa
 ck of a soldier in the American Revolution and the foods that sustained hi
 m. Based on his archival research and cooking re-enactments\, audience mem
 bers learn about the rations that a soldier received\, how he needed to im
 provise and adapt in the face of hardships and hunger\, and how military u
 nits used their ingenuity to prepare and cook meals using the simplest of 
 tools and makeshift equipment. Come and listen to the soldiers’ own voic
 es as they describe what and how they ate during the years of the American
  War for Independence.\n\n\n\nJeff Pavlik&nbsp\;is a professional baker\, 
 historian\, and educator. For 25 years\, he owned and operated a neighborh
 ood bakery and now teaches the Culinary Arts at Lincoln High School in War
 ren\, Michigan. As an avid re-enactor\, Chef Jeff enjoys bringing the past
  to life and teaching 18th-Century foodways at museums and historic sites 
 across the country..\n\n\n\n\n\nFor teens &amp\; adults. Held in 4th Floor
  Program Room.\n\n\n\nThis event is in partnership with the Culinary Histo
 rians of Ann Arbor.\n
CATEGORIES:Arbor Annie's Highlights,Author Event,Food,Free,High
 Schoolers,History,Indoor Activities,Middle Schoolers,Parents
LOCATION:Downtown Branch of AADL\, 343 South Fifth Avenue\, Ann Arbor\, Mic
 higan\, 48104\, Downtown\, United States
GEO:42.278198;-83.745971
X-APPLE-STRUCTURED-LOCATION;VALUE=URI;X-ADDRESS=343 South Fifth Avenue\, An
 n Arbor\, Michigan\, 48104\, Downtown\, United States;X-APPLE-RADIUS=100;X
 -TITLE=Downtown Branch of AADL:geo:42.278198,-83.745971
END:VEVENT
BEGIN:VTIMEZONE
TZID:America/Detroit
X-LIC-LOCATION:America/Detroit
BEGIN:DAYLIGHT
DTSTART:20260308T030000
TZOFFSETFROM:-0500
TZOFFSETTO:-0400
TZNAME:EDT
END:DAYLIGHT
END:VTIMEZONE
END:VCALENDAR