BEGIN:VCALENDAR
VERSION:2.0
PRODID:-//wp-events-plugin.com//7.2.3.1//EN
TZID:America/Detroit
X-WR-TIMEZONE:America/Detroit
BEGIN:VEVENT
UID:77882@annarborwithkids.com
DTSTART;TZID=America/Detroit:20260429T180000
DTEND;TZID=America/Detroit:20260429T193000
DTSTAMP:20260323T193657Z
URL:https://annarborwithkids.com/events/culinary-historians-detroits-1910-
 kosher-meat-riot/
SUMMARY:Culinary Historians | Sabores del Pasado: Exploring the Origins of
  Miami Cuban Restaurant Culture
DESCRIPTION:\nThroughout U.S. history\, restaurants have served a number of
  vital roles in immigrant communities: they are places where immigrants fi
 nd work\, reminisce about home\, build community\, and spur economic growt
 h. In fact\, restaurants are one of the many factors that have led to the 
 economic and political success of the Cuban American community in South Fl
 orida. Join us as we explore the origins of Miami’s Cuban restaurant sce
 nes— moving from the streets of Havana to Miami’s&nbsp\;Calle Ocho&nbs
 p\;corridor and beyond— as well as how these restaurants have served foo
 d with a side of politics over the years.\n\n\n\nAllyson Pérez&nbsp\;is a
  third-year Ph.D. student in the Department of American Culture at the Uni
 versity of Michigan. Her research focuses on Cuban restaurants in Miami as
  community centers where culture\, identity\, and politics are built among
  the immigrants who own\, run\, and patronize them in the past and present
 \, using a mix of ethnographic\, oral history\, and archival methods.\n\n\
 n\nThis event is in partnership with the Culinary Historians of Ann Arbor.
 \n\n\n\nFor teens &amp\; adults. Held in 4th Floor Program Room.\n\n\n
CATEGORIES:Arbor Annie's Highlights,BIPOC,Cultural
 Celebration,Food,Free,High Schoolers,History,Indoor Activities,Parents
LOCATION:Downtown Branch of AADL\, 343 South Fifth Avenue\, Ann Arbor\, Mic
 higan\, 48104\, Downtown\, United States
GEO:42.278198;-83.745971
X-APPLE-STRUCTURED-LOCATION;VALUE=URI;X-ADDRESS=343 South Fifth Avenue\, An
 n Arbor\, Michigan\, 48104\, Downtown\, United States;X-APPLE-RADIUS=100;X
 -TITLE=Downtown Branch of AADL:geo:42.278198,-83.745971
END:VEVENT
BEGIN:VTIMEZONE
TZID:America/Detroit
X-LIC-LOCATION:America/Detroit
BEGIN:DAYLIGHT
DTSTART:20260308T030000
TZOFFSETFROM:-0500
TZOFFSETTO:-0400
TZNAME:EDT
END:DAYLIGHT
END:VTIMEZONE
END:VCALENDAR