BEGIN:VCALENDAR
VERSION:2.0
PRODID:-//wp-events-plugin.com//7.2.3.1//EN
TZID:America/Detroit
X-WR-TIMEZONE:America/Detroit
BEGIN:VEVENT
UID:92576@annarborwithkids.com
DTSTART;TZID=America/Detroit:20260315T120000
DTEND;TZID=America/Detroit:20260315T140000
DTSTAMP:20260219T163450Z
URL:https://annarborwithkids.com/events/crochet-coasters-embroidering-on-c
 rochet/
SUMMARY:Crochet Coasters: Embroidering on Crochet
DESCRIPTION:\nLearn to how to embellish your crochet!&nbsp\;\n\n\n\nWe will
  create a basic\, square crochet coaster with a simple embroidery design\,
  using a mix surface crochet &amp\; the classic lazy daisy embroidery stit
 ch.\n\n\n\nFor teens &amp\; adults.\n\n\n
CATEGORIES:Arbor Annie's Highlights,Crafts,Fiber Arts,Free,High
 Schoolers,Indoor Activities,Parents
LOCATION:Malletts Creek Branch Library\, 3090 E Eisenhower Parkway\, Ann Ar
 bor\, Michigan\, 48108\, South\, United States
GEO:42.2436533;-83.71799220000003
X-APPLE-STRUCTURED-LOCATION;VALUE=URI;X-ADDRESS=3090 E Eisenhower Parkway\,
  Ann Arbor\, Michigan\, 48108\, South\, United States;X-APPLE-RADIUS=100;X
 -TITLE=Malletts Creek Branch Library:geo:42.2436533,-83.71799220000003
END:VEVENT
BEGIN:VTIMEZONE
TZID:America/Detroit
X-LIC-LOCATION:America/Detroit
BEGIN:DAYLIGHT
DTSTART:20260308T030000
TZOFFSETFROM:-0500
TZOFFSETTO:-0400
TZNAME:EDT
END:DAYLIGHT
END:VTIMEZONE
END:VCALENDAR