BEGIN:VCALENDAR
VERSION:2.0
PRODID:-//wp-events-plugin.com//7.2.3.1//EN
TZID:America/Detroit
X-WR-TIMEZONE:America/Detroit
BEGIN:VEVENT
UID:59263@annarborwithkids.com
DTSTART;TZID=America/Detroit:20251024T173000
DTEND;TZID=America/Detroit:20251024T193000
DTSTAMP:20250912T215228Z
URL:https://annarborwithkids.com/events/creatures-of-the-night-trail-walk/
SUMMARY:Creatures of the Night
DESCRIPTION:\nPittsfield Township is hosting a Creatures of the Night Hallo
 ween event. Get ready for a night of safe\, spooky fun! \n\n\n\nEnjoy a ha
 yride\, decorate a pumpkin\, meet special creepy guests brought by the Les
 lie Science Center\, and enjoy an after-hours prowl through the Lillie Par
 k South trail.\n\n\n\nThe event is appropriate for kids of all ages.&nbsp\
 ; You’ll look for nocturnal animals\, learn cool facts\, and see other c
 reatures of the night! \n\n\n\nThe night will wrap up with a trunk or trea
 t. Costumes are optional\, but encouraged. Bring a flashlight and a bag fo
 r your treats.\n\n\n\nSpace is limited\, so register early. Children are $
 15. Adults are free.\n\n\n\nThere will be 2 sessions - one starting at 5:3
 0p and one starting at 6:30p. Please be careful in the parking lot between
  sessions.\n\n\n\n\n\n\n\n\n\n\n\n\n\n\n\nAbout Lille Park\n\n\n\n[wpv-vie
 w name="linked-playground"]\n
CATEGORIES:Advance Registration,Animals,Arbor Annie's
 Highlights,Crafts,Elementary,Fall Fun,Halloween,Middle
 Schoolers,Outdoor,Parents,Preschoolers,Registration Required,Trick or
 Treat
LOCATION:Lillie Park South\, 4365 Platt Rd\, Ann Arbor\, Michigan\, 48108\,
  Pittsfield\, United States
GEO:42.22392199999999;-83.697273
X-APPLE-STRUCTURED-LOCATION;VALUE=URI;X-ADDRESS=4365 Platt Rd\, Ann Arbor\,
  Michigan\, 48108\, Pittsfield\, United States;X-APPLE-RADIUS=100;X-TITLE=
 Lillie Park South:geo:42.22392199999999,-83.697273
END:VEVENT
BEGIN:VTIMEZONE
TZID:America/Detroit
X-LIC-LOCATION:America/Detroit
BEGIN:DAYLIGHT
DTSTART:20250309T030000
TZOFFSETFROM:-0500
TZOFFSETTO:-0400
TZNAME:EDT
END:DAYLIGHT
END:VTIMEZONE
END:VCALENDAR