BEGIN:VCALENDAR
VERSION:2.0
PRODID:-//wp-events-plugin.com//7.2.3.1//EN
TZID:America/Detroit
X-WR-TIMEZONE:America/Detroit
BEGIN:VEVENT
UID:93080@annarborwithkids.com
DTSTART;TZID=America/Detroit:20260328T140000
DTEND;TZID=America/Detroit:20260328T160000
DTSTAMP:20260324T144228Z
URL:https://annarborwithkids.com/events/crafternoon-fabric-birds/
SUMMARY:Crafternoon - Fabric Birds
DESCRIPTION:\nJoin Scrap Creative Reuse for drop-in crafting sessions every
  Saturday from 2-4 pm. These events are perfect for families and people of
  all ages who enjoy crafting. They'll provide all the materials and inspir
 ation needed to create your masterpiece\, and will give you instructions w
 henever necessary. \n\n\n\nThe cost for each session is $5 per crafter\, a
 nd you can either register online or pay in-store. Come and join Scrap for
  a fun-filled crafting experience!&nbsp\;\n\n\n\nThis week's theme is Fabr
 ic Birds. Select from a wide assortment of scrap fabric. Use a template to
  trace and cut the pieces of your bird. Assemble\, glue\, and enjoy your c
 reation! All materials provided.\n\n\n\n2-4pm |&nbsp\;Ages 5+. Youth must 
 be accompanied by an adult.\n\n\n\nReserve your seats before the event!&nb
 sp\;Drop-in is not guaranteed.&nbsp\;\n\n\n\nCrafternoons are not led by i
 nstructors\; however\, SCRAP staff will be available for any questions and
  studio assistance.\n\n\n\nSCRAP prioritizes access to affordable art mate
 rials and expression\, so they're offering tiered ticket options:\n\n\n\n\
 nIndependent Crafter ($5) - This ticket reflects the “true value” of 
 the event and is geared toward those who will be creating solo or with ass
 istance from an adult.\n\n\n\nAssistant Crafter ($2) -&nbsp\;This ticket i
 s geared toward adults who won't be crafting independently accompanying yo
 uth. The cost of this ticket supports our programming\, contributes to con
 tinued ticket accessibility\, and&nbsp\;ensures a space in the workshop fo
 r chaperones — thank you so much!\n\n
CATEGORIES:Advance Registration,Arbor Annie's
 Highlights,Art,Crafts,Elementary,Frugal,High Schoolers,Indoor
 Activities,Middle Schoolers,Optional Registration,Parents
LOCATION:SCRAP Creative Reuse\, 4567 Washtenaw Avenue\, Ann Arbor\, Michiga
 n\, 48108\, East\, United States
GEO:42.252249;-83.669839
X-APPLE-STRUCTURED-LOCATION;VALUE=URI;X-ADDRESS=4567 Washtenaw Avenue\, Ann
  Arbor\, Michigan\, 48108\, East\, United States;X-APPLE-RADIUS=100;X-TITL
 E=SCRAP Creative Reuse:geo:42.252249,-83.669839
END:VEVENT
BEGIN:VTIMEZONE
TZID:America/Detroit
X-LIC-LOCATION:America/Detroit
BEGIN:DAYLIGHT
DTSTART:20260308T030000
TZOFFSETFROM:-0500
TZOFFSETTO:-0400
TZNAME:EDT
END:DAYLIGHT
END:VTIMEZONE
END:VCALENDAR