BEGIN:VCALENDAR
VERSION:2.0
PRODID:-//wp-events-plugin.com//7.2.3.1//EN
TZID:America/Detroit
X-WR-TIMEZONE:America/Detroit
BEGIN:VEVENT
UID:84005@annarborwithkids.com
DTSTART;TZID=America/Detroit:20260131T090000
DTEND;TZID=America/Detroit:20260131T120000
DTSTAMP:20251209T194848Z
URL:https://annarborwithkids.com/events/couple-shuffle/
SUMMARY:Couple Shuffle
DESCRIPTION:\nReady to run your heart out? Join Bodies Race Company for the
 ir annual Couple Shuffle.\n\n\n\nThe fun includes-\n\n\n\n\nGreat Swag –
  designer shirt &amp\; custom medal\n\n\n\nChip-timing with live results a
 nd awards\n\n\n\nFree Photo\n\n\n\nDelicious Treats waiting at the finish 
 line\n\n\n\nPlenty of fun!\n\n\n\n\nGrab your friends and family\, you are
  not going to want to miss this one!Can't make the race? No problem! They 
 offer a virtual race option where you can run anywhere\, at any time\, and
  still earn the fun swag!\n\n\n\nSchedule\n\n\n\n\n7:30-8:45am Packet Pick
 up\n\n\n\n8:55am Kids Dash (Meet at the Start Line and we will walk partic
 ipants out to the starting area)\n\n\n\n9:00am National Anthem and Race St
 art!\n\n\n\n\n*Youth-based pricing for the 5k/10k 12 &amp\; Under are only
  $17!\n\n\n\n\n5K\, 10K\, or 15K registration\n\nBefore January 11- $38\n\
 n\n\nJanuary 12-29 - $42\n\n\n\nJanuary 30-31 - $46\n\n\n\n5K for kids 12 
 &amp\; under is $17\n\n\n\n\n\n1 mile - ($22) is untimed and includes a cu
 stom bib\, designer shirt\, and an awesome finisher medal!\n\n\n\nThe kid'
 s dash ($17) is a fun\, untimed dash for kiddos ages 10 and under. Registr
 ation includes a mini bib\, youth-sized shirt\, and a specifically crafted
  medal for the kids' dash event! (If your child wants to run the kid's das
 h\, and doesn't want the SWAG\, they are welcome to run on race day for fr
 ee!)\n\n\n\n\n*Register by Thursday two weeks BEFORE the race to be guaran
 teed a shirt!\n\n\n\n\n\n\n
CATEGORIES:Advance Registration,Arbor Annie's Highlights,Elementary,High
 Schoolers,Middle Schoolers,Outdoor,Parents,Race,Registration
 Required,Valentine's Day
LOCATION:Island Lake Recreation Area\, 6301 Kensington Rd\, Brighton\, Mich
 igan\, 48116\, Brighton\, United States
GEO:42.513062;-83.68981610000003
X-APPLE-STRUCTURED-LOCATION;VALUE=URI;X-ADDRESS=6301 Kensington Rd\, Bright
 on\, Michigan\, 48116\, Brighton\, United States;X-APPLE-RADIUS=100;X-TITL
 E=Island Lake Recreation Area:geo:42.513062,-83.68981610000003
END:VEVENT
BEGIN:VTIMEZONE
TZID:America/Detroit
X-LIC-LOCATION:America/Detroit
BEGIN:STANDARD
DTSTART:20251102T010000
TZOFFSETFROM:-0400
TZOFFSETTO:-0500
TZNAME:EST
END:STANDARD
END:VTIMEZONE
END:VCALENDAR