BEGIN:VCALENDAR
VERSION:2.0
PRODID:-//wp-events-plugin.com//7.2.3.1//EN
TZID:America/Detroit
X-WR-TIMEZONE:America/Detroit
BEGIN:VEVENT
UID:89995@annarborwithkids.com
DTSTART;TZID=America/Detroit:20251024T150000
DTEND;TZID=America/Detroit:20251024T190000
DTSTAMP:20251009T145933Z
URL:https://annarborwithkids.com/events/costume-party/
SUMMARY:Costume Party
DESCRIPTION:\nWashtenaw Recovery Advocacy Project is having a Costume Party
 . There will be spooky music\, a movie with popcorn\, candy\, and fun game
 s. Plus awards for the best costume.\n\n\n\nThe event is family friendly.\
 n\n\n\n\n
CATEGORIES:Arbor Annie's Highlights,Elementary,Halloween,High
 Schoolers,Indoor Activities,Middle
 Schoolers,Movies,Music/Concerts,Parents,Preschoolers
LOCATION:Holmes Rd Network Center\, 1405 Holmes Rd\, Ypsilanti\, Michigan\,
  48198\, United States
GEO:42.254121;-83.583241
X-APPLE-STRUCTURED-LOCATION;VALUE=URI;X-ADDRESS=1405 Holmes Rd\, Ypsilanti\
 , Michigan\, 48198\, United States;X-APPLE-RADIUS=100;X-TITLE=Holmes Rd Ne
 twork Center:geo:42.254121,-83.583241
END:VEVENT
BEGIN:VTIMEZONE
TZID:America/Detroit
X-LIC-LOCATION:America/Detroit
BEGIN:DAYLIGHT
DTSTART:20250309T030000
TZOFFSETFROM:-0500
TZOFFSETTO:-0400
TZNAME:EDT
END:DAYLIGHT
END:VTIMEZONE
END:VCALENDAR