BEGIN:VCALENDAR
VERSION:2.0
PRODID:-//wp-events-plugin.com//7.2.3.1//EN
TZID:America/Detroit
X-WR-TIMEZONE:America/Detroit
BEGIN:VEVENT
UID:92869@annarborwithkids.com
DTSTART;TZID=America/Detroit:20260331T140000
DTEND;TZID=America/Detroit:20260331T150000
DTSTAMP:20260309T195149Z
URL:https://annarborwithkids.com/events/corita-kent-inspired-collage-cubes
 /
SUMMARY:Corita Kent Inspired Collage Cubes
DESCRIPTION:\nMake a collage in an unusual form – three-dimensional! \n\n
 \n\nMake cubes and collage them with found images and type from magazines\
 , newspapers\, and other scrap paper. This project is inspired by American
  artist and educator Corita Kent’s explorations with found graphics. \n
 \n\n\nFor grades 3-12..\n\n\n\n\n
CATEGORIES:Arbor Annie's Highlights,Crafts,Elementary,Free,High
 Schoolers,Indoor Activities,Middle Schoolers
LOCATION:Westgate Branch of AADL\, 2503 Jackson Ave\, Ann Arbor\, Michigan\
 , 48103\, West\, United States
GEO:42.2786067;-83.78273059999998
X-APPLE-STRUCTURED-LOCATION;VALUE=URI;X-ADDRESS=2503 Jackson Ave\, Ann Arbo
 r\, Michigan\, 48103\, West\, United States;X-APPLE-RADIUS=100;X-TITLE=Wes
 tgate Branch of AADL:geo:42.2786067,-83.78273059999998
END:VEVENT
BEGIN:VTIMEZONE
TZID:America/Detroit
X-LIC-LOCATION:America/Detroit
BEGIN:DAYLIGHT
DTSTART:20260308T030000
TZOFFSETFROM:-0500
TZOFFSETTO:-0400
TZNAME:EDT
END:DAYLIGHT
END:VTIMEZONE
END:VCALENDAR